BEGIN:VCALENDAR
VERSION:2.0
PRODID:-//ok.edith-webco.de//NONSGML kigkonsult.se iCalcreator 2.41.92//
CALSCALE:GREGORIAN
METHOD:PUBLISH
UID:62656534-3639-4561-a636-326432336661
X-WR-TIMEZONE:Europe/Berlin
X-LIC-LOCATION:Europe/Berlin
BEGIN:VEVENT
UID:593913-kulturportal@ok.edith-webco.de
DTSTAMP:20260424T192925Z
DESCRIPTION:Kurzbeschreibung:\n Lange Nacht der Kultur in Offenburg! Kommen
  Sie vorbei\, wir haben bis 24 Uhr geöffnet!\n Ort:\n Salmen\n Langestrass
 e 52\, 77652 Offenburg\n Veranstalter:\n Der Salmen\n Termin:\n Beginn: 24
 .04.2026\, 18:00 Uhr\n Ende: 24.04.2026\n Link:\n Zur Detailseite
DTSTART;TZID=Europe/Berlin:20260424T180000
DTEND;TZID=Europe/Berlin:20260424T210000
LOCATION:Salmen\, Langestrasse 52\, 77652 Offenburg
SUMMARY:Lange Nacht der Kultur: Eine Stadt. Ein Bild. Tausend Ideen.\, Salm
 en
X-ALT-DESC;FMTTYPE=text/html:<strong>Kurzbeschreibung:</strong><br/>Lange N
 acht der Kultur in Offenburg! Kommen Sie vorbei\, wir haben bis 24 Uhr geö
 ffnet!<br /><strong>Ort:</strong><br/>Salmen<br/>Langestrasse 52\, 77652 O
 ffenburg<br /><strong>Veranstalter:</strong><br/>Der Salmen<br /><strong>T
 ermin:</strong><br/>Beginn: 24.04.2026\, 18:00 Uhr<br/>Ende: 24.04.2026<br
  /><strong>Link:</strong><br/><a href='https://ok.edith-webco.de/de/verans
 taltungen/detail/veranstaltung/id/593913-lange-nacht-der-kultur-eine-stadt
 -ein-bild-tausend-ideen/?vt=1'>Zur Detailseite</a>
END:VEVENT
END:VCALENDAR
