BEGIN:VCALENDAR
VERSION:2.0
PRODID:-//ok.edith-webco.de//NONSGML kigkonsult.se iCalcreator 2.41.92//
CALSCALE:GREGORIAN
METHOD:PUBLISH
UID:65303761-6465-4362-a166-633137306234
X-WR-TIMEZONE:Europe/Berlin
X-LIC-LOCATION:Europe/Berlin
BEGIN:VEVENT
UID:594112-kulturportal@ok.edith-webco.de
DTSTAMP:20260425T221700Z
DESCRIPTION:Kurzbeschreibung:\n Die Pianistin Olga Fekete und der Cellist D
 r. Wolfram Bechtel spielen zugunsten der Ukraine\n Ort:\n Gemeindesaal Chr
 istuskirche\n Friedhofstr. 1\, 77694 Kehl\n Veranstalter:\n Deutsch-Ukrain
 ische Gesellschaft Ortenau e.V.\n Termin:\n Beginn: 23.05.2026\n Ende: 23.
 05.2026\n Tickets:\n Vorverkauf: 15\,- Euro Ermässigt: 10\,- Euro\n Abendk
 asse: 18\,- Euro Ermässigt 12\,- Euro\n Link:\n Zur Detailseite
DTSTART;TZID=Europe/Berlin:20260523T000000
DTEND;TZID=Europe/Berlin:20260523T030000
LOCATION:Gemeindesaal Christuskirche\, Friedhofstr. 1\, 77694 Kehl
SUMMARY:Benefiz-Kammermusikabend mit Chopin und Beethoven\, Gemeindesaal Ch
 ristuskirche
X-ALT-DESC;FMTTYPE=text/html:<strong>Kurzbeschreibung:</strong><br/>Die Pia
 nistin Olga Fekete und der Cellist Dr. Wolfram Bechtel spielen zugunsten d
 er Ukraine<br /><strong>Ort:</strong><br/>Gemeindesaal Christuskirche<br/>
 Friedhofstr. 1\, 77694 Kehl<br /><strong>Veranstalter:</strong><br/>Deutsc
 h-Ukrainische Gesellschaft Ortenau e.V.<br /><strong>Termin:</strong><br/>
 Beginn: 23.05.2026<br/>Ende: 23.05.2026<br /><strong>Tickets: </strong><br
 />Vorverkauf: 15\,- Euro  Ermässigt: 10\,- Euro<br />\nAbendkasse: 18\,- E
 uro  Ermässigt 12\,- Euro<br /><strong>Link:</strong><br/><a href='https:/
 /ok.edith-webco.de/de/veranstaltungen/detail/veranstaltung/id/594112-benef
 iz-kammermusikabend-mit-chopin-und-beethoven/?vt=1'>Zur Detailseite</a>
END:VEVENT
END:VCALENDAR
