BEGIN:VCALENDAR
VERSION:2.0
PRODID:-//ok.edith-webco.de//NONSGML kigkonsult.se iCalcreator 2.41.92//
CALSCALE:GREGORIAN
METHOD:PUBLISH
UID:38623139-3563-4531-b032-303837653735
X-WR-TIMEZONE:Europe/Berlin
X-LIC-LOCATION:Europe/Berlin
BEGIN:VEVENT
UID:595118-kulturportal@ok.edith-webco.de
DTSTAMP:20260425T123236Z
DESCRIPTION:Kurzbeschreibung:\n Freuen Sie sich auf schwungvolle Blasmusik:
  Polkas\, Walzer und Märsche im unverwechselbaren böhmischen Stil. Burgund
 erstraße 24\, 77770 Durbach\n Ort:\n Burgunderstraße 24\, 77770 Durbach\, 
 Durbach\n Veranstalter:\n Staufenburg Klinik\n Termin:\n Beginn: 02.06.202
 6\, 19:30 Uhr\n Ende: 02.06.2026\n Tickets:\n Eintritt frei\n Link:\n Zur 
 Detailseite
DTSTART;TZID=Europe/Berlin:20260602T193000
DTEND;TZID=Europe/Berlin:20260602T223000
LOCATION:Burgunderstraße 24\, 77770 Durbach\, Durbach
SUMMARY:Konzert der Orginal Rebländer Blasmusik in der Klinik Durbach\, Bur
 gunderstraße 24\, 77770 Durbach
X-ALT-DESC;FMTTYPE=text/html:<strong>Kurzbeschreibung:</strong><br/>Freuen 
 Sie sich auf schwungvolle Blasmusik: Polkas\, Walzer und Märsche im unverw
 echselbaren böhmischen Stil. \nBurgunderstraße 24\, 77770 Durbach<br /><st
 rong>Ort:</strong><br/>Burgunderstraße 24\, 77770 Durbach\, Durbach<br /><
 strong>Veranstalter:</strong><br/>Staufenburg Klinik<br /><strong>Termin:<
 /strong><br/>Beginn: 02.06.2026\, 19:30 Uhr<br/>Ende: 02.06.2026<br /><str
 ong>Tickets: </strong><br/>Eintritt frei<br /><strong>Link:</strong><br/><
 a href='https://ok.edith-webco.de/de/veranstaltungen/detail/veranstaltung/
 id/595118-konzert-der-orginal-reblaender-blasmusik-in-der-klinik-durbach/?
 vt=1'>Zur Detailseite</a>
END:VEVENT
END:VCALENDAR
