BEGIN:VCALENDAR
VERSION:2.0
PRODID:-//ok.edith-webco.de//NONSGML kigkonsult.se iCalcreator 2.41.92//
CALSCALE:GREGORIAN
METHOD:PUBLISH
UID:33316531-3132-4531-b530-666562383934
X-WR-TIMEZONE:Europe/Berlin
X-LIC-LOCATION:Europe/Berlin
BEGIN:VEVENT
UID:595267-kulturportal@ok.edith-webco.de
DTSTAMP:20260426T015433Z
DESCRIPTION:Kurzbeschreibung:\n Der Montag steht ganz im Zeichen der Gesell
 igkeit und lässt das Dorffest 2026 ausklingen.\n Ort:\n Turn- und Festhall
 e\n Schulstraße 4\, 77773 Schenkenzell\n Veranstalter:\n Schenkenzeller Ve
 reine\n Termin:\n Beginn: 27.07.2026\n Ende: 27.07.2026\n Link:\n Zur Deta
 ilseite
DTSTART;TZID=Europe/Berlin:20260727T000000
DTEND;TZID=Europe/Berlin:20260727T030000
LOCATION:Turn- und Festhalle\, Schulstraße 4\, 77773 Schenkenzell
SUMMARY:Handwerkervesper beim Dorffest in Schenkenzell\, Turn- und Festhall
 e
X-ALT-DESC;FMTTYPE=text/html:<strong>Kurzbeschreibung:</strong><br/>Der Mon
 tag steht ganz im Zeichen der Geselligkeit und lässt das Dorffest 2026 aus
 klingen.<br /><strong>Ort:</strong><br/>Turn- und Festhalle<br/>Schulstraß
 e 4\, 77773 Schenkenzell<br /><strong>Veranstalter:</strong><br/>Schenkenz
 eller Vereine<br /><strong>Termin:</strong><br/>Beginn: 27.07.2026<br/>End
 e: 27.07.2026<br /><strong>Link:</strong><br/><a href='https://ok.edith-we
 bco.de/de/veranstaltungen/detail/veranstaltung/id/595267-handwerkervesper-
 beim-dorffest-in-schenkenzell/?vt=1'>Zur Detailseite</a>
END:VEVENT
END:VCALENDAR
