BEGIN:VCALENDAR
VERSION:2.0
PRODID:-//ok.edith-webco.de//NONSGML kigkonsult.se iCalcreator 2.41.92//
CALSCALE:GREGORIAN
METHOD:PUBLISH
UID:65343731-3634-4363-a634-306635613031
X-WR-TIMEZONE:Europe/Berlin
X-LIC-LOCATION:Europe/Berlin
BEGIN:VEVENT
UID:476803-kulturportal@ok.edith-webco.de
DTSTAMP:20260425T033837Z
DESCRIPTION:Kurzbeschreibung:\n Das Familienzentrum Sankt Josef lädt zum Se
 cond-Hand-Basar ein. Rund ums Kind - vom Säugling bis zum Teenager.\n Ort:
 \n Festhalle\n Wolftalstraße 16\, 77709 Oberwolfach\n Veranstalter:\n Fami
 lienzentrum Sankt Josef\n Termin:\n Beginn: 05.09.2026\, 14:00 Uhr\n Ende:
  05.09.2026\n Link:\n Zur Detailseite
DTSTART;TZID=Europe/Berlin:20260905T140000
DTEND;TZID=Europe/Berlin:20260905T170000
LOCATION:Festhalle\, Wolftalstraße 16\, 77709 Oberwolfach
SUMMARY:Second-Hand-Basar des Familienzentrums St. Josef\, Festhalle
X-ALT-DESC;FMTTYPE=text/html:<strong>Kurzbeschreibung:</strong><br/>Das Fam
 ilienzentrum Sankt Josef lädt zum Second-Hand-Basar ein. Rund ums Kind - v
 om Säugling bis zum Teenager.<br /><strong>Ort:</strong><br/>Festhalle<br/
 >Wolftalstraße 16\, 77709 Oberwolfach<br /><strong>Veranstalter:</strong><
 br/>Familienzentrum Sankt Josef<br /><strong>Termin:</strong><br/>Beginn: 
 05.09.2026\, 14:00 Uhr<br/>Ende: 05.09.2026<br /><strong>Link:</strong><br
 /><a href='https://ok.edith-webco.de/de/veranstaltungen/detail/veranstaltu
 ng/id/476803-second-hand-basar-des-familienzentrums-st-josef/?vt=1'>Zur De
 tailseite</a>
END:VEVENT
END:VCALENDAR
