BEGIN:VCALENDAR
VERSION:2.0
PRODID:-//ok.edith-webco.de//NONSGML kigkonsult.se iCalcreator 2.41.92//
CALSCALE:GREGORIAN
METHOD:PUBLISH
UID:64303263-3262-4036-b737-666234626230
X-WR-TIMEZONE:Europe/Berlin
X-LIC-LOCATION:Europe/Berlin
BEGIN:VEVENT
UID:505772-kulturportal@ok.edith-webco.de
DTSTAMP:20260425T032409Z
DESCRIPTION:Kurzbeschreibung:\n Feuerwehrfest vom 19-20.07.2026. Hierzu ist
  die gesamte Bevölkerung sowie Gäste herzlich eingeladen.\n Ort:\n Feuerwe
 hrgerätehaus\, Mühlenbach\n Veranstalter:\n Freiwillige Feuerwehr\n Termin
 :\n Beginn: 19.07.2026\n Ende: 19.07.2026\n Link:\n Zur Detailseite
DTSTART;TZID=Europe/Berlin:20260719T000000
DTEND;TZID=Europe/Berlin:20260719T030000
LOCATION:Feuerwehrgerätehaus\, Mühlenbach
SUMMARY:Sommerfest der Feuerwehr\, Feuerwehrgerätehaus
X-ALT-DESC;FMTTYPE=text/html:<strong>Kurzbeschreibung:</strong><br/>Feuerwe
 hrfest vom 19-20.07.2026. Hierzu ist die gesamte Bevölkerung sowie Gäste h
 erzlich eingeladen. <br /><strong>Ort:</strong><br/>Feuerwehrgerätehaus\, 
 Mühlenbach<br /><strong>Veranstalter:</strong><br/>Freiwillige Feuerwehr<b
 r /><strong>Termin:</strong><br/>Beginn: 19.07.2026<br/>Ende: 19.07.2026<b
 r /><strong>Link:</strong><br/><a href='https://ok.edith-webco.de/de/veran
 staltungen/detail/veranstaltung/id/505772-sommerfest-der-feuerwehr/?vt=1'>
 Zur Detailseite</a>
END:VEVENT
END:VCALENDAR
