BEGIN:VCALENDAR
VERSION:2.0
PRODID:-//ok.edith-webco.de//NONSGML kigkonsult.se iCalcreator 2.41.92//
CALSCALE:GREGORIAN
METHOD:PUBLISH
UID:63396362-3134-4732-a662-323432656431
X-WR-TIMEZONE:Europe/Berlin
X-LIC-LOCATION:Europe/Berlin
BEGIN:VEVENT
UID:506756-kulturportal@ok.edith-webco.de
DTSTAMP:20260425T145033Z
DESCRIPTION:Kurzbeschreibung:\n Maifest\, Party mit DJs im Großen Festzelt 
 auf dem Flachenberg Mühlenbach\, Beginn 19Uhr\n Ort:\n Flachenberg Mühlenb
 ach\, Mühlenbach\n Veranstalter:\n Trachtenkapelle 'Harmonie' e.V.\n Termi
 n:\n Beginn: 13.05.2026\, 19:00 Uhr\n Ende: 13.05.2026\n Link:\n Zur Detai
 lseite
DTSTART;TZID=Europe/Berlin:20260513T190000
DTEND;TZID=Europe/Berlin:20260513T220000
LOCATION:Flachenberg Mühlenbach\, Mühlenbach
SUMMARY:Maifest auf dem Flachenberg\, Flachenberg Mühlenbach
X-ALT-DESC;FMTTYPE=text/html:<strong>Kurzbeschreibung:</strong><br/>Maifest
 \, Party mit DJs im Großen Festzelt auf dem Flachenberg Mühlenbach\, Begin
 n 19Uhr<br /><strong>Ort:</strong><br/>Flachenberg Mühlenbach\, Mühlenbach
 <br /><strong>Veranstalter:</strong><br/>Trachtenkapelle 'Harmonie' e.V.<b
 r /><strong>Termin:</strong><br/>Beginn: 13.05.2026\, 19:00 Uhr<br/>Ende: 
 13.05.2026<br /><strong>Link:</strong><br/><a href='https://ok.edith-webco
 .de/de/veranstaltungen/detail/veranstaltung/id/506756-maifest-auf-dem-flac
 henberg/?vt=1'>Zur Detailseite</a>
END:VEVENT
END:VCALENDAR
