BEGIN:VCALENDAR
VERSION:2.0
PRODID:-//ok.edith-webco.de//NONSGML kigkonsult.se iCalcreator 2.41.92//
CALSCALE:GREGORIAN
METHOD:PUBLISH
UID:32626439-6232-4934-a564-303563333262
X-WR-TIMEZONE:Europe/Berlin
X-LIC-LOCATION:Europe/Berlin
BEGIN:VEVENT
UID:509646-kulturportal@ok.edith-webco.de
DTSTAMP:20260424T232954Z
DESCRIPTION:Kurzbeschreibung:\n Die Kurvengeister laden traditionell zum le
 gendären Motorradtreffen ein.\n Ort:\n Auf der Allmend\, Biberach\n Verans
 talter:\n MC 'Kurvengeister' Biberach\n Termin:\n Beginn: 10.07.2026\n End
 e: 10.07.2026\n Link:\n Zur Detailseite
DTSTART;VALUE=DATE:20260710
DTEND;VALUE=DATE:20260711
LOCATION:Auf der Allmend\, Biberach
SUMMARY:Motorradtreffen\, Auf der Allmend
X-ALT-DESC;FMTTYPE=text/html:<strong>Kurzbeschreibung:</strong><br/>Die Kur
 vengeister laden traditionell zum legendären Motorradtreffen ein. <br /><s
 trong>Ort:</strong><br/>Auf der Allmend\, Biberach<br /><strong>Veranstalt
 er:</strong><br/>MC 'Kurvengeister' Biberach<br /><strong>Termin:</strong>
 <br/>Beginn: 10.07.2026<br/>Ende: 10.07.2026<br /><strong>Link:</strong><b
 r/><a href='https://ok.edith-webco.de/de/veranstaltungen/detail/veranstalt
 ung/id/509646-motorradtreffen/?vt=1'>Zur Detailseite</a>
END:VEVENT
END:VCALENDAR
