BEGIN:VCALENDAR
VERSION:2.0
PRODID:-//ok.edith-webco.de//NONSGML kigkonsult.se iCalcreator 2.41.92//
CALSCALE:GREGORIAN
METHOD:PUBLISH
UID:35616465-6130-4635-a362-366434316262
X-WR-TIMEZONE:Europe/Berlin
X-LIC-LOCATION:Europe/Berlin
BEGIN:VEVENT
UID:509649-kulturportal@ok.edith-webco.de
DTSTAMP:20260424T231126Z
DESCRIPTION:Kurzbeschreibung:\n Einen warmen Sommerabend genießen und den S
 tress vergessen - das können nicht nur Wasserratten beim Flutlichtbaden de
 r DLRG Biberach\n Ort:\n Waldterrassenbad\n Jägerpfad\, 77781 Biberach\n V
 eranstalter:\n DLRG e.V. - Ortsgruppe Biberach\n Termin:\n Beginn: 31.07.2
 026\, 19:30 Uhr\n Ende: 31.07.2026\n Link:\n Zur Detailseite
DTSTART;TZID=Europe/Berlin:20260731T193000
DTEND;TZID=Europe/Berlin:20260731T223000
LOCATION:Waldterrassenbad\, Jägerpfad\, 77781 Biberach
SUMMARY:Flutlichtbaden \, Waldterrassenbad
X-ALT-DESC;FMTTYPE=text/html:<strong>Kurzbeschreibung:</strong><br/>Einen w
 armen Sommerabend genießen und den Stress vergessen - das können nicht nur
  Wasserratten beim Flutlichtbaden der DLRG Biberach\n<br /><strong>Ort:</s
 trong><br/>Waldterrassenbad<br/>Jägerpfad\, 77781 Biberach<br /><strong>Ve
 ranstalter:</strong><br/>DLRG e.V. - Ortsgruppe Biberach<br /><strong>Term
 in:</strong><br/>Beginn: 31.07.2026\, 19:30 Uhr<br/>Ende: 31.07.2026<br />
 <strong>Link:</strong><br/><a href='https://ok.edith-webco.de/de/veranstal
 tungen/detail/veranstaltung/id/509649-flutlichtbaden/?vt=1'>Zur Detailseit
 e</a>
END:VEVENT
END:VCALENDAR
