BEGIN:VCALENDAR
VERSION:2.0
PRODID:-//ok.edith-webco.de//NONSGML kigkonsult.se iCalcreator 2.41.92//
CALSCALE:GREGORIAN
METHOD:PUBLISH
UID:36333063-3134-4661-b939-303331663238
X-WR-TIMEZONE:Europe/Berlin
X-LIC-LOCATION:Europe/Berlin
BEGIN:VEVENT
UID:563238-kulturportal@ok.edith-webco.de
DTSTAMP:20260425T123332Z
DESCRIPTION:Kurzbeschreibung:\n Traditionelles Altstadtfest der Bürgergarde
  in der Gengenbacher Innenstadt mit Bewirtung und Unterhaltung\n Ort:\n In
 nenstadt Gengenbach\n Victor-Kretz-Str./Hauptstr.\, 77723 Gengenbach\n Ver
 anstalter:\n Bürgergarde Gengenbach\n Termin:\n Beginn: 04.07.2026\, 16:00
  Uhr\n Ende: 04.07.2026\n Link:\n Zur Detailseite
DTSTART;TZID=Europe/Berlin:20260704T160000
DTEND;TZID=Europe/Berlin:20260704T190000
LOCATION:Innenstadt Gengenbach\, Victor-Kretz-Str./Hauptstr.\, 77723 Gengen
 bach
SUMMARY:Altstadtfest\, Innenstadt Gengenbach
X-ALT-DESC;FMTTYPE=text/html:<strong>Kurzbeschreibung:</strong><br/>Traditi
 onelles Altstadtfest der Bürgergarde in der Gengenbacher Innenstadt mit Be
 wirtung und Unterhaltung<br /><strong>Ort:</strong><br/>Innenstadt Gengenb
 ach<br/>Victor-Kretz-Str./Hauptstr.\, 77723 Gengenbach<br /><strong>Verans
 talter:</strong><br/>Bürgergarde Gengenbach<br /><strong>Termin:</strong><
 br/>Beginn: 04.07.2026\, 16:00 Uhr<br/>Ende: 04.07.2026<br /><strong>Link:
 </strong><br/><a href='https://ok.edith-webco.de/de/veranstaltungen/detail
 /veranstaltung/id/563238-altstadtfest/?vt=1'>Zur Detailseite</a>
END:VEVENT
END:VCALENDAR
