BEGIN:VCALENDAR
VERSION:2.0
PRODID:-//ok.edith-webco.de//NONSGML kigkonsult.se iCalcreator 2.41.92//
CALSCALE:GREGORIAN
METHOD:PUBLISH
UID:32636364-6133-4233-b033-343836333035
X-WR-TIMEZONE:Europe/Berlin
X-LIC-LOCATION:Europe/Berlin
BEGIN:VEVENT
UID:579359-kulturportal@ok.edith-webco.de
DTSTAMP:20260425T154451Z
DESCRIPTION:Kurzbeschreibung:\n der Freiwilligen Feuerwehr\, Abt. Schnellin
 gen\, in der alten Trotte im Ortsteil Schnellingen\n Ort:\n an der Trotte 
 Schnellingen\, Haslach - Schnellingen\n Veranstalter:\n Freiwilligen Feuer
 wehr\, Abt. Schnellingen\n Termin:\n Beginn: 16.05.2026\n Ende: 16.05.2026
 \n Link:\n Zur Detailseite
DTSTART;VALUE=DATE:20260516
DTEND;VALUE=DATE:20260517
LOCATION:an der Trotte Schnellingen\, Haslach - Schnellingen
SUMMARY:Trottefest mit Tauziehwettbewerb\, an der Trotte Schnellingen
X-ALT-DESC;FMTTYPE=text/html:<strong>Kurzbeschreibung:</strong><br/>der Fre
 iwilligen Feuerwehr\, Abt. Schnellingen\, in der alten Trotte im Ortsteil 
 Schnellingen<br /><strong>Ort:</strong><br/>an der Trotte Schnellingen\, H
 aslach - Schnellingen<br /><strong>Veranstalter:</strong><br/>Freiwilligen
  Feuerwehr\, Abt. Schnellingen<br /><strong>Termin:</strong><br/>Beginn: 1
 6.05.2026<br/>Ende: 16.05.2026<br /><strong>Link:</strong><br/><a href='ht
 tps://ok.edith-webco.de/de/veranstaltungen/detail/veranstaltung/id/579359-
 trottefest-mit-tauziehwettbewerb/?vt=1'>Zur Detailseite</a>
END:VEVENT
END:VCALENDAR
