BEGIN:VCALENDAR
VERSION:2.0
PRODID:-//ok.edith-webco.de//NONSGML kigkonsult.se iCalcreator 2.41.92//
CALSCALE:GREGORIAN
METHOD:PUBLISH
UID:64633635-6231-4237-a336-343432323737
X-WR-TIMEZONE:Europe/Berlin
X-LIC-LOCATION:Europe/Berlin
BEGIN:VEVENT
UID:579364-kulturportal@ok.edith-webco.de
DTSTAMP:20260425T104343Z
DESCRIPTION:Kurzbeschreibung:\n Feuerwehrfest der Feuerwehrabteilung Bollen
 bach im und um das Dorfgemeinschaftshaus im Ortsteil Bollenbach\n Ort:\n D
 orfgemeinschaftshaus\n Kinzigstraße 8\, 77716 Haslach - Bollenbach\n Veran
 stalter:\n Freiwillige Feuerwehr\, Abteilung Bollenbach\n Termin:\n Beginn
 : 01.08.2026\n Ende: 01.08.2026\n Link:\n Zur Detailseite
DTSTART;TZID=Europe/Berlin:20260801T000000
DTEND;TZID=Europe/Berlin:20260801T030000
LOCATION:Dorfgemeinschaftshaus\, Kinzigstraße 8\, 77716 Haslach - Bollenbac
 h
SUMMARY:Feuerwehrfest\, Dorfgemeinschaftshaus
X-ALT-DESC;FMTTYPE=text/html:<strong>Kurzbeschreibung:</strong><br/>Feuerwe
 hrfest der Feuerwehrabteilung Bollenbach im und um das Dorfgemeinschaftsha
 us im Ortsteil Bollenbach<br /><strong>Ort:</strong><br/>Dorfgemeinschafts
 haus<br/>Kinzigstraße 8\, 77716 Haslach - Bollenbach<br /><strong>Veransta
 lter:</strong><br/>Freiwillige Feuerwehr\, Abteilung Bollenbach<br /><stro
 ng>Termin:</strong><br/>Beginn: 01.08.2026<br/>Ende: 01.08.2026<br /><stro
 ng>Link:</strong><br/><a href='https://ok.edith-webco.de/de/veranstaltunge
 n/detail/veranstaltung/id/579364-feuerwehrfest/?vt=1'>Zur Detailseite</a>
END:VEVENT
END:VCALENDAR
