BEGIN:VCALENDAR
VERSION:2.0
PRODID:-//ok.edith-webco.de//NONSGML kigkonsult.se iCalcreator 2.41.92//
CALSCALE:GREGORIAN
METHOD:PUBLISH
UID:33326138-3665-4564-a431-386538616662
X-WR-TIMEZONE:Europe/Berlin
X-LIC-LOCATION:Europe/Berlin
BEGIN:VEVENT
UID:582237-kulturportal@ok.edith-webco.de
DTSTAMP:20260426T040335Z
DESCRIPTION:Kurzbeschreibung:\n Ein gar trefflich Spectaculum auf der Schau
 enburg zu Oberkirch am 11. Juli 2026!\n Ort:\n Burgruine Schauenburg\n Bur
 gstraße 29\, 77704 Oberkirch\n Veranstalter:\n Lions Club Oberkirch-Schaue
 nburg\n Termin:\n Beginn: 11.07.2026\, 11:00 Uhr\n Ende: 11.07.2026\n Tick
 ets:\n Tickets kaufen\n https://ortenaukultur.reservix.de/p/reservix/event
 /2480713\n Eintritt Tageskarte (Tavernenspiel muss separat gebucht werden!
 ):\n bis 13\,00 € + Ermäßigung\n Tavernenspiel (Beginn 20 Uhr\, Tageseintr
 itt muss zusätzlich gelöst werden):\n bis 5\,00 € + Ermäßigung\n *Preise i
 nkl. MwSt.\n \n Link:\n Zur Detailseite
DTSTART;TZID=Europe/Berlin:20260711T110000
DTEND;TZID=Europe/Berlin:20260711T140000
LOCATION:Burgruine Schauenburg\, Burgstraße 29\, 77704 Oberkirch
SUMMARY:Mittelalterliches Spectaculum auf der Schauenburg zu Oberkirch\, Ru
 ine Schauenburg
X-ALT-DESC;FMTTYPE=text/html:<strong>Kurzbeschreibung:</strong><br/>Ein gar
  trefflich Spectaculum auf der Schauenburg zu Oberkirch am 11. Juli 2026!<
 br /><strong>Ort:</strong><br/>Burgruine Schauenburg<br/>Burgstraße 29\, 7
 7704 Oberkirch<br /><strong>Veranstalter:</strong><br/>Lions Club Oberkirc
 h-Schauenburg<br /><strong>Termin:</strong><br/>Beginn: 11.07.2026\, 11:00
  Uhr<br/>Ende: 11.07.2026<br /><strong>Tickets: </strong><br/><a rel='asdf
 ' href='https://ok.edith-webco.de/de/feste-maerkte/detail/tickets/id/58223
 7-mittelalterliches-spectaculum-auf-der-schauenburg-zu-oberkirch/?follow=h
 ttps%253A%252F%252Fortenaukultur.reservix.de%252Fp%252Freservix%252Fevent%
 252F2480713' target='_blank' title='' id='ticketlink'>Tickets kaufen</a><b
 r/>https://ortenaukultur.reservix.de/p/reservix/event/2480713<br/><b>Eintr
 itt Tageskarte (Tavernenspiel muss separat gebucht werden!): </b><br />bis
  13\,00 &euro\;&nbsp\; + Ermäßigung<br /><b>Tavernenspiel (Beginn 20 Uhr\,
  Tageseintritt muss zusätzlich gelöst werden): </b><br />bis 5\,00 &euro\;
 &nbsp\; + Ermäßigung<br />*Preise inkl. MwSt.<br /><br /><strong>Link:</st
 rong><br/><a href='https://ok.edith-webco.de/de/veranstaltungen/detail/ver
 anstaltung/id/582237-mittelalterliches-spectaculum-auf-der-schauenburg-zu-
 oberkirch/?vt=1'>Zur Detailseite</a>
END:VEVENT
END:VCALENDAR
