BEGIN:VCALENDAR
VERSION:2.0
PRODID:-//ok.edith-webco.de//NONSGML kigkonsult.se iCalcreator 2.41.92//
CALSCALE:GREGORIAN
METHOD:PUBLISH
UID:31326333-3035-4431-a431-653634376437
X-WR-TIMEZONE:Europe/Berlin
X-LIC-LOCATION:Europe/Berlin
BEGIN:VEVENT
UID:583245-kulturportal@ok.edith-webco.de
DTSTAMP:20260425T031452Z
DESCRIPTION:Kurzbeschreibung:\n Veranstalter ist der Verein Ban Saensuk\, d
 er notleidende Kinder in Thailand unterstützt.\n Ort:\n Stadthalle\n Gusta
 v-Rivinius-Platz 3\, 77756 Hausach\n Veranstalter:\n Verein 'Ban Saensuk'
 \n Termin:\n Beginn: 25.07.2026\, 10:00 Uhr\n Ende: 25.07.2026\n Link:\n Z
 ur Detailseite
DTSTART;TZID=Europe/Berlin:20260725T100000
DTEND;TZID=Europe/Berlin:20260725T130000
LOCATION:Stadthalle\, Gustav-Rivinius-Platz 3\, 77756 Hausach
SUMMARY:Thai-Deutsches-Fest \, Stadthalle
X-ALT-DESC;FMTTYPE=text/html:<strong>Kurzbeschreibung:</strong><br/>Veranst
 alter ist der Verein Ban Saensuk\, der notleidende Kinder in Thailand unte
 rstützt.\n<br /><strong>Ort:</strong><br/>Stadthalle<br/>Gustav-Rivinius-P
 latz 3\, 77756 Hausach<br /><strong>Veranstalter:</strong><br/>Verein 'Ban
  Saensuk'<br /><strong>Termin:</strong><br/>Beginn: 25.07.2026\, 10:00 Uhr
 <br/>Ende: 25.07.2026<br /><strong>Link:</strong><br/><a href='https://ok.
 edith-webco.de/de/veranstaltungen/detail/veranstaltung/id/583245-thai-deut
 sches-fest/?vt=1'>Zur Detailseite</a>
END:VEVENT
END:VCALENDAR
