BEGIN:VCALENDAR
VERSION:2.0
PRODID:-//ok.edith-webco.de//NONSGML kigkonsult.se iCalcreator 2.41.92//
CALSCALE:GREGORIAN
METHOD:PUBLISH
UID:32613633-3534-4133-b463-363864313939
X-WR-TIMEZONE:Europe/Berlin
X-LIC-LOCATION:Europe/Berlin
BEGIN:VEVENT
UID:585941-kulturportal@ok.edith-webco.de
DTSTAMP:20260424T220603Z
DESCRIPTION:Kurzbeschreibung:\n Die Besucher erwartet ein abwechslungsreich
 es Unterhaltungsprogramm und ein reichhaltiges Speisen- und Getränkeangebo
 t\n Ort:\n Festplatz auf dem Sandbühl\, Hornberg - Niederwasser\n Veransta
 lter:\n Musikverein und Trachtenkapelle Niederwasser e.V.\n Termin:\n Begi
 nn: 04.07.2026\, 18:00 Uhr\n Ende: 04.07.2026\n Link:\n Zur Detailseite
DTSTART;TZID=Europe/Berlin:20260704T180000
DTEND;TZID=Europe/Berlin:20260704T210000
LOCATION:Festplatz auf dem Sandbühl\, Hornberg - Niederwasser
SUMMARY:Sandbühlfest\, Festplatz auf dem Sandbühl
X-ALT-DESC;FMTTYPE=text/html:<strong>Kurzbeschreibung:</strong><br/>Die Bes
 ucher erwartet ein abwechslungsreiches Unterhaltungsprogramm und ein reich
 haltiges Speisen- und Getränkeangebot<br /><strong>Ort:</strong><br/>Festp
 latz auf dem Sandbühl\, Hornberg - Niederwasser<br /><strong>Veranstalter:
 </strong><br/>Musikverein und Trachtenkapelle Niederwasser e.V.<br /><stro
 ng>Termin:</strong><br/>Beginn: 04.07.2026\, 18:00 Uhr<br/>Ende: 04.07.202
 6<br /><strong>Link:</strong><br/><a href='https://ok.edith-webco.de/de/ve
 ranstaltungen/detail/veranstaltung/id/585941-sandbuehlfest/?vt=1'>Zur Deta
 ilseite</a>
END:VEVENT
END:VCALENDAR
