BEGIN:VCALENDAR
VERSION:2.0
PRODID:-//ok.edith-webco.de//NONSGML kigkonsult.se iCalcreator 2.41.92//
CALSCALE:GREGORIAN
METHOD:PUBLISH
UID:31313032-6662-4034-a436-626336653436
X-WR-TIMEZONE:Europe/Berlin
X-LIC-LOCATION:Europe/Berlin
BEGIN:VEVENT
UID:588802-kulturportal@ok.edith-webco.de
DTSTAMP:20260425T163000Z
DESCRIPTION:Kurzbeschreibung:\n Bei der Breisgau-Spritztour entdecken Sie d
 ie ganze Vielfalt der Breisgauer Weine und Sekte – mit und ohne Alkohol un
 d genau dort\, wo sie heranreifen.\n Ort:\n Teilnehmende Winzerbetriebe\, 
 Ettenheim\n Veranstalter:\n Breisgauer Wein GmbH\n Termin:\n Beginn: 21.06
 .2026\, 11:00 Uhr\n Ende: 21.06.2026\n Tickets:\n 49\,- € (Im Ticketpreis 
 sind Busfahrt und Verkostungen von vier Jahrgangsweinen pro Winzer inbegri
 ffen. Speisen sind separat erhältlich.)\n Link:\n Zur Detailseite
DTSTART;TZID=Europe/Berlin:20260621T110000
DTEND;TZID=Europe/Berlin:20260621T140000
LOCATION:Teilnehmende Winzerbetriebe\, Ettenheim
SUMMARY:Breisgau Spritztour - Das Weinfest auf Rädern\, Teilnehmende Winzer
 betriebe
X-ALT-DESC;FMTTYPE=text/html:<strong>Kurzbeschreibung:</strong><br/>Bei der
  Breisgau-Spritztour entdecken Sie die ganze Vielfalt der Breisgauer Weine
  und Sekte – mit und ohne Alkohol und genau dort\, wo sie heranreifen.<br 
 /><strong>Ort:</strong><br/>Teilnehmende Winzerbetriebe\, Ettenheim<br /><
 strong>Veranstalter:</strong><br/>Breisgauer Wein GmbH<br /><strong>Termin
 :</strong><br/>Beginn: 21.06.2026\, 11:00 Uhr<br/>Ende: 21.06.2026<br /><s
 trong>Tickets: </strong><br/>49\,- € (Im Ticketpreis sind Busfahrt und Ver
 kostungen von vier Jahrgangsweinen pro Winzer inbegriffen. Speisen sind se
 parat erhältlich.)<br /><strong>Link:</strong><br/><a href='https://ok.edi
 th-webco.de/de/veranstaltungen/detail/veranstaltung/id/588802-breisgau-spr
 itztour-das-weinfest-auf-raedern/?vt=1'>Zur Detailseite</a>
END:VEVENT
END:VCALENDAR
