BEGIN:VCALENDAR
VERSION:2.0
PRODID:-//ok.edith-webco.de//NONSGML kigkonsult.se iCalcreator 2.41.92//
CALSCALE:GREGORIAN
METHOD:PUBLISH
UID:65353538-3864-4665-b232-613635363561
X-WR-TIMEZONE:Europe/Berlin
X-LIC-LOCATION:Europe/Berlin
BEGIN:VEVENT
UID:588908-kulturportal@ok.edith-webco.de
DTSTAMP:20260425T182822Z
DESCRIPTION:Kurzbeschreibung:\n Auf dem Sportgelände des SC Orschweier find
 en 3 Tage lang Turniere\, Gaudi\, Spiel und Spaß statt\n Ort:\n Sportgelän
 de des SC Orschweier\, Baggerlochstadion\, Mahlberg-Orschweier\n Veranstal
 ter:\n SC Orschweier\n Termin:\n Beginn: 16.07.2026\n Ende: 16.07.2026\n L
 ink:\n Zur Detailseite
DTSTART;TZID=Europe/Berlin:20260716T000000
DTEND;TZID=Europe/Berlin:20260716T030000
LOCATION:Sportgelände des SC Orschweier\, Baggerlochstadion\, Mahlberg-Orsc
 hweier
SUMMARY:Baggerlochfest des SC Orschweier 2026\, Sportgelände des SC Orschwe
 ier\, Baggerlochstadion
X-ALT-DESC;FMTTYPE=text/html:<strong>Kurzbeschreibung:</strong><br/>Auf dem
  Sportgelände des SC Orschweier finden 3 Tage lang Turniere\, Gaudi\, Spie
 l und Spaß statt<br /><strong>Ort:</strong><br/>Sportgelände des SC Orschw
 eier\, Baggerlochstadion\, Mahlberg-Orschweier<br /><strong>Veranstalter:<
 /strong><br/>SC Orschweier<br /><strong>Termin:</strong><br/>Beginn: 16.07
 .2026<br/>Ende: 16.07.2026<br /><strong>Link:</strong><br/><a href='https:
 //ok.edith-webco.de/de/veranstaltungen/detail/veranstaltung/id/588908-bagg
 erlochfest-des-sc-orschweier-2026/?vt=1'>Zur Detailseite</a>
END:VEVENT
END:VCALENDAR
