BEGIN:VCALENDAR
VERSION:2.0
PRODID:-//ok.edith-webco.de//NONSGML kigkonsult.se iCalcreator 2.41.92//
CALSCALE:GREGORIAN
METHOD:PUBLISH
UID:30643736-6634-4137-b661-316565396536
X-WR-TIMEZONE:Europe/Berlin
X-LIC-LOCATION:Europe/Berlin
BEGIN:VEVENT
UID:588917-kulturportal@ok.edith-webco.de
DTSTAMP:20260425T143137Z
DESCRIPTION:Kurzbeschreibung:\n Sommerfest der Siedlergemeinschaft im Verba
 nd Wohneigentum Baden-Württemberg e.V.\n Ort:\n Rund um die Stadthalle\, M
 ahlberg\n Veranstalter:\n Siedlergemeinschaft Mahlberg\n Termin:\n Beginn:
  16.08.2026\, 11:00 Uhr\n Ende: 16.08.2026\n Link:\n Zur Detailseite
DTSTART;TZID=Europe/Berlin:20260816T110000
DTEND;TZID=Europe/Berlin:20260816T140000
LOCATION:Rund um die Stadthalle\, Mahlberg
SUMMARY:Sommerfest Siedlergemeinschaft Mahlberg 2026\, Rund um die Stadthal
 le
X-ALT-DESC;FMTTYPE=text/html:<strong>Kurzbeschreibung:</strong><br/>Sommerf
 est der Siedlergemeinschaft im Verband Wohneigentum Baden-Württemberg e.V.
  <br /><strong>Ort:</strong><br/>Rund um die Stadthalle\, Mahlberg<br /><s
 trong>Veranstalter:</strong><br/>Siedlergemeinschaft Mahlberg<br /><strong
 >Termin:</strong><br/>Beginn: 16.08.2026\, 11:00 Uhr<br/>Ende: 16.08.2026<
 br /><strong>Link:</strong><br/><a href='https://ok.edith-webco.de/de/vera
 nstaltungen/detail/veranstaltung/id/588917-sommerfest-siedlergemeinschaft-
 mahlberg-2026/?vt=1'>Zur Detailseite</a>
END:VEVENT
END:VCALENDAR
