BEGIN:VCALENDAR
VERSION:2.0
PRODID:-//ok.edith-webco.de//NONSGML kigkonsult.se iCalcreator 2.41.92//
CALSCALE:GREGORIAN
METHOD:PUBLISH
UID:33396335-3061-4963-a166-643365343064
X-WR-TIMEZONE:Europe/Berlin
X-LIC-LOCATION:Europe/Berlin
BEGIN:VEVENT
UID:589042-kulturportal@ok.edith-webco.de
DTSTAMP:20260424T175701Z
DESCRIPTION:Kurzbeschreibung:\n Nach dem Gottesdienst in der Heilig-Kreuz-K
 irche findet anschließend das Sommerfest der Pfarrgemeinde statt.\n Ort:\n
  Park beim Pfarrheim\n Hauptstr. 53\, 77790 Steinach\n Veranstalter:\n Pfa
 rrgemeinde Steinach\n Termin:\n Beginn: 12.07.2026\n Ende: 12.07.2026\n Li
 nk:\n Zur Detailseite
DTSTART;TZID=Europe/Berlin:20260712T000000
DTEND;TZID=Europe/Berlin:20260712T030000
LOCATION:Park beim Pfarrheim\, Hauptstr. 53\, 77790 Steinach
SUMMARY:Pfarrfest \, Heilig-Kreuz-Kirche
X-ALT-DESC;FMTTYPE=text/html:<strong>Kurzbeschreibung:</strong><br/>Nach de
 m Gottesdienst in der Heilig-Kreuz-Kirche findet anschließend das Sommerfe
 st der Pfarrgemeinde statt.<br /><strong>Ort:</strong><br/>Park beim Pfarr
 heim<br/>Hauptstr. 53\, 77790 Steinach<br /><strong>Veranstalter:</strong>
 <br/>Pfarrgemeinde Steinach<br /><strong>Termin:</strong><br/>Beginn: 12.0
 7.2026<br/>Ende: 12.07.2026<br /><strong>Link:</strong><br/><a href='https
 ://ok.edith-webco.de/de/veranstaltungen/detail/veranstaltung/id/589042-pfa
 rrfest/?vt=1'>Zur Detailseite</a>
END:VEVENT
END:VCALENDAR
