BEGIN:VCALENDAR
VERSION:2.0
PRODID:-//ok.edith-webco.de//NONSGML kigkonsult.se iCalcreator 2.41.92//
CALSCALE:GREGORIAN
METHOD:PUBLISH
UID:30363966-6132-4462-b132-303235303361
X-WR-TIMEZONE:Europe/Berlin
X-LIC-LOCATION:Europe/Berlin
BEGIN:VEVENT
UID:589052-kulturportal@ok.edith-webco.de
DTSTAMP:20260425T123337Z
DESCRIPTION:Kurzbeschreibung:\n traditionelles Fest mit viel Musik\, Tanz u
 nd Unterhaltung sowie einem großen kulinarischen Angebot\n Ort:\n Rund um 
 Rathaus und Schule sowie Lindenplatz\n Dorfstr. 19\, 77790 Steinach-Welsch
 ensteinach\n Veranstalter:\n Dorffestgemeinschaft Welschensteinach\n Termi
 n:\n Beginn: 18.07.2026\n Ende: 18.07.2026\n Link:\n Zur Detailseite
DTSTART;TZID=Europe/Berlin:20260718T000000
DTEND;TZID=Europe/Berlin:20260718T030000
LOCATION:Rund um Rathaus und Schule sowie Lindenplatz\, Dorfstr. 19\, 77790
  Steinach-Welschensteinach
SUMMARY:Dorffest Welschensteinach \, Platz der Freundschaft
X-ALT-DESC;FMTTYPE=text/html:<strong>Kurzbeschreibung:</strong><br/>traditi
 onelles Fest mit viel Musik\, Tanz und Unterhaltung sowie einem großen kul
 inarischen Angebot\n\n<br /><strong>Ort:</strong><br/>Rund um Rathaus und 
 Schule sowie Lindenplatz<br/>Dorfstr. 19\, 77790 Steinach-Welschensteinach
 <br /><strong>Veranstalter:</strong><br/>Dorffestgemeinschaft Welschenstei
 nach<br /><strong>Termin:</strong><br/>Beginn: 18.07.2026<br/>Ende: 18.07.
 2026<br /><strong>Link:</strong><br/><a href='https://ok.edith-webco.de/de
 /veranstaltungen/detail/veranstaltung/id/589052-dorffest-welschensteinach/
 ?vt=1'>Zur Detailseite</a>
END:VEVENT
END:VCALENDAR
