BEGIN:VCALENDAR
VERSION:2.0
PRODID:-//ok.edith-webco.de//NONSGML kigkonsult.se iCalcreator 2.41.92//
CALSCALE:GREGORIAN
METHOD:PUBLISH
UID:37306130-3165-4534-b461-353635373330
X-WR-TIMEZONE:Europe/Berlin
X-LIC-LOCATION:Europe/Berlin
BEGIN:VEVENT
UID:589053-kulturportal@ok.edith-webco.de
DTSTAMP:20260425T121034Z
DESCRIPTION:Kurzbeschreibung:\n musikalischer Feierabend mit den Sängerinne
 n und Sängern des Gesangvereins Steinach\n Ort:\n Pfarrgarten\n Schulstr. 
 1\, 77790 Steinach\n Veranstalter:\n Gesangverein 'Unser Chor' Steinach\n 
 Termin:\n Beginn: 24.07.2026\, 19:00 Uhr\n Ende: 24.07.2026\n Link:\n Zur 
 Detailseite
DTSTART;TZID=Europe/Berlin:20260724T190000
DTEND;TZID=Europe/Berlin:20260724T220000
LOCATION:Pfarrgarten\, Schulstr. 1\, 77790 Steinach
SUMMARY:Sänger-Hock\, Haus der Jugend und Vereine
X-ALT-DESC;FMTTYPE=text/html:<strong>Kurzbeschreibung:</strong><br/>musikal
 ischer Feierabend mit den Sängerinnen und Sängern des Gesangvereins Steina
 ch<br /><strong>Ort:</strong><br/>Pfarrgarten<br/>Schulstr. 1\, 77790 Stei
 nach<br /><strong>Veranstalter:</strong><br/>Gesangverein 'Unser Chor' Ste
 inach<br /><strong>Termin:</strong><br/>Beginn: 24.07.2026\, 19:00 Uhr<br/
 >Ende: 24.07.2026<br /><strong>Link:</strong><br/><a href='https://ok.edit
 h-webco.de/de/veranstaltungen/detail/veranstaltung/id/589053-saenger-hock/
 ?vt=1'>Zur Detailseite</a>
END:VEVENT
END:VCALENDAR
