BEGIN:VCALENDAR
VERSION:2.0
PRODID:-//ok.edith-webco.de//NONSGML kigkonsult.se iCalcreator 2.41.92//
CALSCALE:GREGORIAN
METHOD:PUBLISH
UID:31643938-6362-4032-a433-356639626330
X-WR-TIMEZONE:Europe/Berlin
X-LIC-LOCATION:Europe/Berlin
BEGIN:VEVENT
UID:589077-kulturportal@ok.edith-webco.de
DTSTAMP:20260425T142007Z
DESCRIPTION:Kurzbeschreibung:\n Wasser marsch\, bunte Unterhaltung und Kuli
 narisches aus Küche und Keller\n Ort:\n beim Sportplatz\n Sportplatzstraße
 \, 77790 Steinach\n Veranstalter:\n Freiwillige Feuerwehr Steinach\, Abtei
 lung Steinach\n Termin:\n Beginn: 16.08.2026\n Ende: 16.08.2026\n Tickets:
 \n --\n Link:\n Zur Detailseite
DTSTART;TZID=Europe/Berlin:20260816T000000
DTEND;TZID=Europe/Berlin:20260816T030000
LOCATION:beim Sportplatz\, Sportplatzstraße\, 77790 Steinach
SUMMARY:Sommerfest der Freiwilligen Feuerwehr Steinach \, Sportplatz Steina
 ch
X-ALT-DESC;FMTTYPE=text/html:<strong>Kurzbeschreibung:</strong><br/>Wasser 
 marsch\, bunte Unterhaltung und Kulinarisches aus  Küche und Keller<br /><
 strong>Ort:</strong><br/>beim Sportplatz<br/>Sportplatzstraße\, 77790 Stei
 nach<br /><strong>Veranstalter:</strong><br/>Freiwillige Feuerwehr Steinac
 h\, Abteilung Steinach<br /><strong>Termin:</strong><br/>Beginn: 16.08.202
 6<br/>Ende: 16.08.2026<br /><strong>Tickets: </strong><br/>--<br /><strong
 >Link:</strong><br/><a href='https://ok.edith-webco.de/de/veranstaltungen/
 detail/veranstaltung/id/589077-sommerfest-der-freiwilligen-feuerwehr-stein
 ach/?vt=1'>Zur Detailseite</a>
END:VEVENT
END:VCALENDAR
