BEGIN:VCALENDAR
VERSION:2.0
PRODID:-//ok.edith-webco.de//NONSGML kigkonsult.se iCalcreator 2.41.92//
CALSCALE:GREGORIAN
METHOD:PUBLISH
UID:65623966-6432-4430-b039-643161633336
X-WR-TIMEZONE:Europe/Berlin
X-LIC-LOCATION:Europe/Berlin
BEGIN:VEVENT
UID:589533-kulturportal@ok.edith-webco.de
DTSTAMP:20260425T155915Z
DESCRIPTION:Kurzbeschreibung:\n Genuss erleben in der alten Küferei. Wissen
 swertes zum Thema Brennen und Genießen von Edelbrände mit der Edelbrandsom
 melière Elke Niemann.\n Ort:\n Familie Niemann\, Talblick 6\, Münchweier\,
  77955 Ettenheim\n Talblick 6\, 77955 Ettenheim\n Veranstalter:\n Talblick
 brennerei\n Termin:\n Beginn: 06.08.2026\, 19:00 Uhr\n Ende: 06.08.2026\n 
 Tickets:\n Anmeldung erforderlich\n Unter 0178 9146357 oder per Mail an in
 fo@talblickbrennerei.de\n Kosten: 15 EUR/Pers.\n Link:\n Zur Detailseite
DTSTART;TZID=Europe/Berlin:20260806T190000
DTEND;TZID=Europe/Berlin:20260806T220000
LOCATION:Familie Niemann\, Talblick 6\, Münchweier\, 77955 Ettenheim\, Talb
 lick 6\, 77955 Ettenheim
SUMMARY:Genuss erleben – Brennereiführung mit Destillat- und Gin-Verkostung
 \, Talblickbrennerei
X-ALT-DESC;FMTTYPE=text/html:<strong>Kurzbeschreibung:</strong><br/>Genuss 
 erleben in der alten Küferei. Wissenswertes zum Thema Brennen und Genießen
  von Edelbrände mit der  Edelbrandsommelière Elke Niemann.<br /><strong>Or
 t:</strong><br/>Familie Niemann\, Talblick 6\, Münchweier\, 77955 Ettenhei
 m<br/>Talblick 6\, 77955 Ettenheim<br /><strong>Veranstalter:</strong><br/
 >Talblickbrennerei<br /><strong>Termin:</strong><br/>Beginn: 06.08.2026\, 
 19:00 Uhr<br/>Ende: 06.08.2026<br /><strong>Tickets: </strong><br/>Anmeldu
 ng erforderlich<br />\nUnter 0178 9146357 oder per Mail an info@talblickbr
 ennerei.de<br />\nKosten: 15 EUR/Pers.<br /><strong>Link:</strong><br/><a 
 href='https://ok.edith-webco.de/de/veranstaltungen/detail/veranstaltung/id
 /589533-genuss-erleben-brennereifuehrung-mit-destillat-und-gin-verkostung/
 ?vt=1'>Zur Detailseite</a>
END:VEVENT
END:VCALENDAR
