BEGIN:VCALENDAR
VERSION:2.0
PRODID:-//ok.edith-webco.de//NONSGML kigkonsult.se iCalcreator 2.41.92//
CALSCALE:GREGORIAN
METHOD:PUBLISH
UID:62653232-3962-4539-a563-393966393963
X-WR-TIMEZONE:Europe/Berlin
X-LIC-LOCATION:Europe/Berlin
BEGIN:VEVENT
UID:590498-kulturportal@ok.edith-webco.de
DTSTAMP:20260425T112748Z
DESCRIPTION:Kurzbeschreibung:\n Öffentliche Weinprobe mit Kellerbesichtigun
 g bei der Oberkircher Winzer eG. Kosten Sie die edlen Tropfen.\n Ort:\n Ob
 erkircher Winzer eG\n Renchener Straße 42\, 77704 Oberkirch\n Veranstalter
 :\n Oberkircher Winzer eG\n Termin:\n Beginn: 03.03.2026\, 14:30 Uhr\n End
 e: 03.03.2026\n Link:\n Zur Detailseite
DTSTART;TZID=Europe/Berlin:20260303T143000
DTEND;TZID=Europe/Berlin:20260303T173000
LOCATION:Oberkircher Winzer eG\, Renchener Straße 42\, 77704 Oberkirch
SUMMARY:Öffentliche Weinprobe\, Oberkircher Winzer eG
X-ALT-DESC;FMTTYPE=text/html:<strong>Kurzbeschreibung:</strong><br/>Öffentl
 iche Weinprobe mit Kellerbesichtigung bei der Oberkircher Winzer eG. Koste
 n Sie die edlen Tropfen.<br /><strong>Ort:</strong><br/>Oberkircher Winzer
  eG<br/>Renchener Straße 42\, 77704 Oberkirch<br /><strong>Veranstalter:</
 strong><br/>Oberkircher Winzer eG<br /><strong>Termin:</strong><br/>Beginn
 : 03.03.2026\, 14:30 Uhr<br/>Ende: 03.03.2026<br /><strong>Link:</strong><
 br/><a href='https://ok.edith-webco.de/de/veranstaltungen/detail/veranstal
 tung/id/590498-oeffentliche-weinprobe/?vt=1'>Zur Detailseite</a>
END:VEVENT
END:VCALENDAR
