BEGIN:VCALENDAR
VERSION:2.0
PRODID:-//ok.edith-webco.de//NONSGML kigkonsult.se iCalcreator 2.41.92//
CALSCALE:GREGORIAN
METHOD:PUBLISH
UID:37653032-3538-4937-b264-623263656634
X-WR-TIMEZONE:Europe/Berlin
X-LIC-LOCATION:Europe/Berlin
BEGIN:VEVENT
UID:590580-kulturportal@ok.edith-webco.de
DTSTAMP:20260425T131939Z
DESCRIPTION:Kurzbeschreibung:\n Genießt einen entspannten Abend bei einer K
 langschalenreise im Weinberg\n Ort:\n Weingut Bähr\n Gaisbach 29\, 77704 O
 berkirch\n Veranstalter:\n Weingut Bähr\n Termin:\n Beginn: 08.05.2026\, 1
 8:00 Uhr\n Ende: 08.05.2026\n Link:\n Zur Detailseite
DTSTART;TZID=Europe/Berlin:20260508T180000
DTEND;TZID=Europe/Berlin:20260508T210000
LOCATION:Weingut Bähr\, Gaisbach 29\, 77704 Oberkirch
SUMMARY:Klangschalenreise im Weinberg\, Weingut Bähr
X-ALT-DESC;FMTTYPE=text/html:<strong>Kurzbeschreibung:</strong><br/>Genießt
  einen entspannten Abend bei einer Klangschalenreise im Weinberg<br /><str
 ong>Ort:</strong><br/>Weingut Bähr<br/>Gaisbach 29\, 77704 Oberkirch<br />
 <strong>Veranstalter:</strong><br/>Weingut Bähr<br /><strong>Termin:</stro
 ng><br/>Beginn: 08.05.2026\, 18:00 Uhr<br/>Ende: 08.05.2026<br /><strong>L
 ink:</strong><br/><a href='https://ok.edith-webco.de/de/veranstaltungen/de
 tail/veranstaltung/id/590580-klangschalenreise-im-weinberg/?vt=1'>Zur Deta
 ilseite</a>
END:VEVENT
END:VCALENDAR
