BEGIN:VCALENDAR
VERSION:2.0
PRODID:-//ok.edith-webco.de//NONSGML kigkonsult.se iCalcreator 2.41.92//
CALSCALE:GREGORIAN
METHOD:PUBLISH
UID:35663337-3038-4438-a530-396566653232
X-WR-TIMEZONE:Europe/Berlin
X-LIC-LOCATION:Europe/Berlin
BEGIN:VEVENT
UID:591260-kulturportal@ok.edith-webco.de
DTSTAMP:20260425T191800Z
DESCRIPTION:Kurzbeschreibung:\n Vielfältige Veranstaltungen in den Orten\, 
 die der Kinzigtal-Steig verbindet.\n Blitzinfo:\n Eventuell findet die Ein
 weihung auch nur am Sonntag statt.\n Ort:\n Kinzigtalsteig auf Gemarkung S
 teinach\, Steinach\n Veranstalter:\n Gemeinde Steinach\n Termin:\n Beginn:
  10.10.2026\n Ende: 10.10.2026\n Link:\n Zur Detailseite
DTSTART;TZID=Europe/Berlin:20261010T000000
DTEND;TZID=Europe/Berlin:20261010T030000
LOCATION:Kinzigtalsteig auf Gemarkung Steinach\, Steinach
SUMMARY:Einweihung Kinzigtal-Steig\, Kinzigtalsteig auf Gemarkung Steinach
X-ALT-DESC;FMTTYPE=text/html:<strong>Kurzbeschreibung:</strong><br/>Vielfäl
 tige Veranstaltungen in den Orten\, die der Kinzigtal-Steig verbindet.<br 
 /><strong>Blitzinfo:</strong><br/>Eventuell findet die Einweihung auch nur
  am Sonntag statt.<br /><strong>Ort:</strong><br/>Kinzigtalsteig auf Gemar
 kung Steinach\, Steinach<br /><strong>Veranstalter:</strong><br/>Gemeinde 
 Steinach<br /><strong>Termin:</strong><br/>Beginn: 10.10.2026<br/>Ende: 10
 .10.2026<br /><strong>Link:</strong><br/><a href='https://ok.edith-webco.d
 e/de/veranstaltungen/detail/veranstaltung/id/591260-einweihung-kinzigtal-s
 teig/?vt=1'>Zur Detailseite</a>
END:VEVENT
END:VCALENDAR
