BEGIN:VCALENDAR
VERSION:2.0
PRODID:-//ok.edith-webco.de//NONSGML kigkonsult.se iCalcreator 2.41.92//
CALSCALE:GREGORIAN
METHOD:PUBLISH
UID:36323332-6230-4966-b666-326339656664
X-WR-TIMEZONE:Europe/Berlin
X-LIC-LOCATION:Europe/Berlin
BEGIN:VEVENT
UID:591461-kulturportal@ok.edith-webco.de
DTSTAMP:20260425T153723Z
DESCRIPTION:Kurzbeschreibung:\n Großes Stadtfest mit mehreren Bühnen\, Mark
 t und vielfältiger Gastronomie in der gesamten Innenstadt\n Ort:\n Innenst
 adt\n Marktplatz / Hauptstraße\, 77694 Kehl\n Veranstalter:\n Stadt Kehl\n
  Termin:\n Beginn: 17.05.2026\, 13:30 Uhr\n Ende: 17.05.2026\n Tickets:\n 
 Eintritt kostenlos\n Link:\n Zur Detailseite
DTSTART;TZID=Europe/Berlin:20260517T133000
DTEND;TZID=Europe/Berlin:20260517T163000
LOCATION:Innenstadt\, Marktplatz / Hauptstraße\, 77694 Kehl
SUMMARY:Max Buettner Collective Messdi 2026   \, Innenstadt
X-ALT-DESC;FMTTYPE=text/html:<strong>Kurzbeschreibung:</strong><br/>Großes 
 Stadtfest mit mehreren Bühnen\, Markt und vielfältiger Gastronomie in der 
 gesamten Innenstadt<br /><strong>Ort:</strong><br/>Innenstadt<br/>Marktpla
 tz / Hauptstraße\, 77694 Kehl<br /><strong>Veranstalter:</strong><br/>Stad
 t Kehl<br /><strong>Termin:</strong><br/>Beginn: 17.05.2026\, 13:30 Uhr<br
 />Ende: 17.05.2026<br /><strong>Tickets: </strong><br/>Eintritt kostenlos<
 br /><strong>Link:</strong><br/><a href='https://ok.edith-webco.de/de/vera
 nstaltungen/detail/veranstaltung/id/591461-max-buettner-collective-messdi-
 2026/?vt=1'>Zur Detailseite</a>
END:VEVENT
END:VCALENDAR
