BEGIN:VCALENDAR
VERSION:2.0
PRODID:-//ok.edith-webco.de//NONSGML kigkonsult.se iCalcreator 2.41.92//
CALSCALE:GREGORIAN
METHOD:PUBLISH
UID:34643963-6461-4633-b635-643030623235
X-WR-TIMEZONE:Europe/Berlin
X-LIC-LOCATION:Europe/Berlin
BEGIN:VEVENT
UID:591669-kulturportal@ok.edith-webco.de
DTSTAMP:20260424T231845Z
DESCRIPTION:Kurzbeschreibung:\n Der Hopser-Basar der Kinderkrippe Mühlbachh
 opser findet am Samstag\, 1. August 2026\, von 11 bis 14 Uhr im Bürgerpark
  in Offenburg statt.\n Ort:\n Stadtteil- und Familienzentrum Innenstadt\n 
 Stegermattstraße 26\, 77652 Offenburg\n Veranstalter:\n Eltern-Kind-Zentru
 m Offenburg e. V.\n Termin:\n Beginn: 01.08.2026\n Ende: 01.08.2026\n Link
 :\n Zur Detailseite
DTSTART;TZID=Europe/Berlin:20260801T000000
DTEND;TZID=Europe/Berlin:20260801T030000
LOCATION:Stadtteil- und Familienzentrum Innenstadt\, Stegermattstraße 26\, 
 77652 Offenburg
SUMMARY:Hopser-Basar der Kinderkrippe Mühlbachhopser im Bürgerpark Offenbur
 g\, Stadtteil- und Familienzentrum Innenstadt
X-ALT-DESC;FMTTYPE=text/html:<strong>Kurzbeschreibung:</strong><br/>Der Hop
 ser-Basar der Kinderkrippe Mühlbachhopser findet am Samstag\, 1. August 20
 26\, von 11 bis 14 Uhr im Bürgerpark in Offenburg statt.<br /><strong>Ort:
 </strong><br/>Stadtteil- und Familienzentrum Innenstadt<br/>Stegermattstra
 ße 26\, 77652 Offenburg<br /><strong>Veranstalter:</strong><br/>Eltern-Kin
 d-Zentrum Offenburg e. V.<br /><strong>Termin:</strong><br/>Beginn: 01.08.
 2026<br/>Ende: 01.08.2026<br /><strong>Link:</strong><br/><a href='https:/
 /ok.edith-webco.de/de/veranstaltungen/detail/veranstaltung/id/591669-hopse
 r-basar-der-kinderkrippe-muehlbachhopser-im-buergerpark-offenburg/?vt=1'>Z
 ur Detailseite</a>
END:VEVENT
END:VCALENDAR
