BEGIN:VCALENDAR
VERSION:2.0
PRODID:-//ok.edith-webco.de//NONSGML kigkonsult.se iCalcreator 2.41.92//
CALSCALE:GREGORIAN
METHOD:PUBLISH
UID:61623764-3630-4434-a464-653964616633
X-WR-TIMEZONE:Europe/Berlin
X-LIC-LOCATION:Europe/Berlin
BEGIN:VEVENT
UID:591729-kulturportal@ok.edith-webco.de
DTSTAMP:20260425T025106Z
DESCRIPTION:Kurzbeschreibung:\n Am Montag\, 15.06.2026 darf das traditionel
 le 'Handwerkervesper' ab 17:00 Uhr nicht fehlen.\n Ort:\n Feuerwehrgeräteh
 aus Abteilung Schenkenzell\n Spannstattstraße 32-34\, 77773 Schenkenzell\n
  Veranstalter:\n Feuerwehr Abteilung Schenkenzell\n Termin:\n Beginn: 15.0
 6.2026\, 17:00 Uhr\n Ende: 15.06.2026\n Link:\n Zur Detailseite
DTSTART;TZID=Europe/Berlin:20260615T170000
DTEND;TZID=Europe/Berlin:20260615T200000
LOCATION:Feuerwehrgerätehaus Abteilung Schenkenzell\, Spannstattstraße 32-3
 4\, 77773 Schenkenzell
SUMMARY:Handwerkervesper der Feuerwehr Schenkenzell\, Feuerwehrgerätehaus A
 bteilung Schenkenzell
X-ALT-DESC;FMTTYPE=text/html:<strong>Kurzbeschreibung:</strong><br/>Am Mont
 ag\, 15.06.2026 darf das traditionelle 'Handwerkervesper' ab 17:00 Uhr nic
 ht fehlen. <br /><strong>Ort:</strong><br/>Feuerwehrgerätehaus Abteilung S
 chenkenzell<br/>Spannstattstraße 32-34\, 77773 Schenkenzell<br /><strong>V
 eranstalter:</strong><br/>Feuerwehr Abteilung Schenkenzell<br /><strong>Te
 rmin:</strong><br/>Beginn: 15.06.2026\, 17:00 Uhr<br/>Ende: 15.06.2026<br 
 /><strong>Link:</strong><br/><a href='https://ok.edith-webco.de/de/veranst
 altungen/detail/veranstaltung/id/591729-handwerkervesper-der-feuerwehr-sch
 enkenzell/?vt=1'>Zur Detailseite</a>
END:VEVENT
END:VCALENDAR
