BEGIN:VCALENDAR
VERSION:2.0
PRODID:-//ok.edith-webco.de//NONSGML kigkonsult.se iCalcreator 2.41.92//
CALSCALE:GREGORIAN
METHOD:PUBLISH
UID:35653963-3636-4436-b265-363562633561
X-WR-TIMEZONE:Europe/Berlin
X-LIC-LOCATION:Europe/Berlin
BEGIN:VEVENT
UID:591733-kulturportal@ok.edith-webco.de
DTSTAMP:20260426T032822Z
DESCRIPTION:Kurzbeschreibung:\n Der erste After-Work-Hock im Jahr 2026 find
 et am Freitag\, 03.07.2026 auf der Festwiese Heilig Garten statt.\n Ort:\n
  Freizeitgelände Heilig Garten\n Heilig Garten\, 77773 Schenkenzell\n Vera
 nstalter:\n Turnverein und Handballförderverein Schenkenzell\n Termin:\n B
 eginn: 03.07.2026\, 17:00 Uhr\n Ende: 03.07.2026\n Link:\n Zur Detailseite
DTSTART;TZID=Europe/Berlin:20260703T170000
DTEND;TZID=Europe/Berlin:20260703T200000
LOCATION:Freizeitgelände Heilig Garten\, Heilig Garten\, 77773 Schenkenzell
SUMMARY:After-Work-Hock\, Freizeitgelände Heilig Garten
X-ALT-DESC;FMTTYPE=text/html:<strong>Kurzbeschreibung:</strong><br/>Der ers
 te After-Work-Hock im Jahr 2026 findet am Freitag\, 03.07.2026 auf der Fes
 twiese Heilig Garten statt. <br /><strong>Ort:</strong><br/>Freizeitgeländ
 e Heilig Garten<br/>Heilig Garten\, 77773 Schenkenzell<br /><strong>Verans
 talter:</strong><br/>Turnverein und Handballförderverein Schenkenzell<br /
 ><strong>Termin:</strong><br/>Beginn: 03.07.2026\, 17:00 Uhr<br/>Ende: 03.
 07.2026<br /><strong>Link:</strong><br/><a href='https://ok.edith-webco.de
 /de/veranstaltungen/detail/veranstaltung/id/591733-after-work-hock/?vt=1'>
 Zur Detailseite</a>
END:VEVENT
END:VCALENDAR
