BEGIN:VCALENDAR
VERSION:2.0
PRODID:-//ok.edith-webco.de//NONSGML kigkonsult.se iCalcreator 2.41.92//
CALSCALE:GREGORIAN
METHOD:PUBLISH
UID:31336137-3765-4063-b238-313831366436
X-WR-TIMEZONE:Europe/Berlin
X-LIC-LOCATION:Europe/Berlin
BEGIN:VEVENT
UID:591737-kulturportal@ok.edith-webco.de
DTSTAMP:20260424T232903Z
DESCRIPTION:Kurzbeschreibung:\n Auch der Tennisclub lädt dieses Jahr am Fre
 itag\, 10.07.2026 wieder zu einem After-Work-Hock ein.\n Ort:\n Freizeitge
 lände Heilig Garten\n Heilig Garten\, 77773 Schenkenzell\n Veranstalter:\n
  Tennisclub Schenkenzell\n Termin:\n Beginn: 10.07.2026\, 17:00 Uhr\n Ende
 : 10.07.2026\n Link:\n Zur Detailseite
DTSTART;TZID=Europe/Berlin:20260710T170000
DTEND;TZID=Europe/Berlin:20260710T200000
LOCATION:Freizeitgelände Heilig Garten\, Heilig Garten\, 77773 Schenkenzell
SUMMARY:After-Work-Hock\, Freizeitgelände Heilig Garten
X-ALT-DESC;FMTTYPE=text/html:<strong>Kurzbeschreibung:</strong><br/>Auch de
 r Tennisclub lädt dieses Jahr am Freitag\, 10.07.2026 wieder zu einem Afte
 r-Work-Hock ein.<br /><strong>Ort:</strong><br/>Freizeitgelände Heilig Gar
 ten<br/>Heilig Garten\, 77773 Schenkenzell<br /><strong>Veranstalter:</str
 ong><br/>Tennisclub Schenkenzell<br /><strong>Termin:</strong><br/>Beginn:
  10.07.2026\, 17:00 Uhr<br/>Ende: 10.07.2026<br /><strong>Link:</strong><b
 r/><a href='https://ok.edith-webco.de/de/veranstaltungen/detail/veranstalt
 ung/id/591737-after-work-hock/?vt=1'>Zur Detailseite</a>
END:VEVENT
END:VCALENDAR
