BEGIN:VCALENDAR
VERSION:2.0
PRODID:-//ok.edith-webco.de//NONSGML kigkonsult.se iCalcreator 2.41.92//
CALSCALE:GREGORIAN
METHOD:PUBLISH
UID:63653933-3030-4333-a262-313331356130
X-WR-TIMEZONE:Europe/Berlin
X-LIC-LOCATION:Europe/Berlin
BEGIN:VEVENT
UID:595255-kulturportal@ok.edith-webco.de
DTSTAMP:20260425T171117Z
DESCRIPTION:Kurzbeschreibung:\n Freut euch auf ein buntes Dorffest-Wochenen
 de vom 25.07. bis 27.07.2026 voller Musik\, Unterhaltung und guter Stimmun
 g!\n Ort:\n Freizeitgelände Heilig Garten\n Heilig Garten\, 77773 Schenken
 zell\n Veranstalter:\n Schenkenzeller Vereine\n Termin:\n Beginn: 25.07.20
 26\, 14:00 Uhr\n Ende: 25.07.2026\n Link:\n Zur Detailseite
DTSTART;TZID=Europe/Berlin:20260725T140000
DTEND;TZID=Europe/Berlin:20260725T170000
LOCATION:Freizeitgelände Heilig Garten\, Heilig Garten\, 77773 Schenkenzell
SUMMARY:Dorffest 2026 in Schenkenzell\, Freizeitgelände Heilig Garten
X-ALT-DESC;FMTTYPE=text/html:<strong>Kurzbeschreibung:</strong><br/>Freut e
 uch auf ein buntes Dorffest-Wochenende vom 25.07. bis 27.07.2026 voller Mu
 sik\, Unterhaltung und guter Stimmung! <br /><strong>Ort:</strong><br/>Fre
 izeitgelände Heilig Garten<br/>Heilig Garten\, 77773 Schenkenzell<br /><st
 rong>Veranstalter:</strong><br/>Schenkenzeller Vereine<br /><strong>Termin
 :</strong><br/>Beginn: 25.07.2026\, 14:00 Uhr<br/>Ende: 25.07.2026<br /><s
 trong>Link:</strong><br/><a href='https://ok.edith-webco.de/de/veranstaltu
 ngen/detail/veranstaltung/id/595255-dorffest-2026-in-schenkenzell/?vt=1'>Z
 ur Detailseite</a>
END:VEVENT
END:VCALENDAR
