BEGIN:VCALENDAR
VERSION:2.0
PRODID:-//ok.edith-webco.de//NONSGML kigkonsult.se iCalcreator 2.41.92//
CALSCALE:GREGORIAN
METHOD:PUBLISH
UID:61323039-3234-4266-b036-663964346163
X-WR-TIMEZONE:Europe/Berlin
X-LIC-LOCATION:Europe/Berlin
BEGIN:VEVENT
UID:590615-kulturportal@ok.edith-webco.de
DTSTAMP:20260425T190803Z
DESCRIPTION:Kurzbeschreibung:\n Ferienspaß-Kurs für Kinder von 5 - 9 Jahren
  in der Naturkundeabteilung\n Ort:\n Museum im Ritterhaus\n Ritterstr. 10\
 , 77652 Offenburg\n Veranstalter:\n Museum im Ritterhaus Offenburg\n Termi
 n:\n Beginn: 04.08.2026\, 10:00 Uhr\n Ende: 04.08.2026\n Link:\n Zur Detai
 lseite
DTSTART;TZID=Europe/Berlin:20260804T100000
DTEND;TZID=Europe/Berlin:20260804T130000
LOCATION:Museum im Ritterhaus\, Ritterstr. 10\, 77652 Offenburg
SUMMARY:Mäuse\, Mäuse\, Mäuse\, Museum im Ritterhaus
X-ALT-DESC;FMTTYPE=text/html:<strong>Kurzbeschreibung:</strong><br/>Feriens
 paß-Kurs für Kinder von 5 - 9 Jahren in der Naturkundeabteilung<br /><stro
 ng>Ort:</strong><br/>Museum im Ritterhaus<br/>Ritterstr. 10\, 77652 Offenb
 urg<br /><strong>Veranstalter:</strong><br/>Museum im Ritterhaus Offenburg
 <br /><strong>Termin:</strong><br/>Beginn: 04.08.2026\, 10:00 Uhr<br/>Ende
 : 04.08.2026<br /><strong>Link:</strong><br/><a href='https://ok.edith-web
 co.de/de/veranstaltungen/detail/veranstaltung/id/590615-maeuse-maeuse-maeu
 se/?vt=1'>Zur Detailseite</a>
END:VEVENT
END:VCALENDAR
