BEGIN:VCALENDAR
VERSION:2.0
PRODID:-//ok.edith-webco.de//NONSGML kigkonsult.se iCalcreator 2.41.92//
CALSCALE:GREGORIAN
METHOD:PUBLISH
UID:32353136-3230-4432-b732-363736643461
X-WR-TIMEZONE:Europe/Berlin
X-LIC-LOCATION:Europe/Berlin
BEGIN:VEVENT
UID:585178-kulturportal@ok.edith-webco.de
DTSTAMP:20260425T140416Z
DESCRIPTION:Kurzbeschreibung:\n Autor Helmut Busam bricht aus dem Alltag au
 s und fährt den Jakobsweg mit einem alten Traktor.\n Ort:\n ´s freche hus
 \n Apothekergasse 7\, 77704 Oberkirch\n Veranstalter:\n Stadt Oberkirch\n 
 Termin:\n Beginn: 12.11.2026\, 19:00 Uhr\n Ende: 12.11.2026\n Tickets:\n T
 ickets kaufen\n https://ortenaukultur.reservix.de/p/reservix/event/2499125
 \n Preise:\n bis 8\,00 € + Ermäßigung\n *Preise inkl. MwSt.\n \n Link:\n Z
 ur Detailseite
DTSTART;TZID=Europe/Berlin:20261112T190000
DTEND;TZID=Europe/Berlin:20261112T220000
LOCATION:´s freche hus\, Apothekergasse 7\, 77704 Oberkirch
SUMMARY:Eine Reise zu sich selbst\, ´s freche hus
X-ALT-DESC;FMTTYPE=text/html:<strong>Kurzbeschreibung:</strong><br/>Autor H
 elmut Busam bricht aus dem Alltag aus und fährt den Jakobsweg mit einem al
 ten Traktor. <br /><strong>Ort:</strong><br/>´s freche hus<br/>Apothekerga
 sse 7\, 77704 Oberkirch<br /><strong>Veranstalter:</strong><br/>Stadt Ober
 kirch<br /><strong>Termin:</strong><br/>Beginn: 12.11.2026\, 19:00 Uhr<br/
 >Ende: 12.11.2026<br /><strong>Tickets: </strong><br/><a rel='asdf' href='
 https://ok.edith-webco.de/de/literatur/detail/tickets/id/585178-eine-reise
 -zu-sich-selbst/?follow=https%253A%252F%252Fortenaukultur.reservix.de%252F
 p%252Freservix%252Fevent%252F2499125' target='_blank' title='' id='ticketl
 ink'>Tickets kaufen</a><br/>https://ortenaukultur.reservix.de/p/reservix/e
 vent/2499125<br/><b>Preise: </b><br />bis 8\,00 &euro\;&nbsp\; + Ermäßigun
 g<br />*Preise inkl. MwSt.<br /><br /><strong>Link:</strong><br/><a href='
 https://ok.edith-webco.de/de/veranstaltungen/detail/veranstaltung/id/58517
 8-eine-reise-zu-sich-selbst/?vt=1'>Zur Detailseite</a>
END:VEVENT
END:VCALENDAR
