BEGIN:VCALENDAR
VERSION:2.0
PRODID:-//ok.edith-webco.de//NONSGML kigkonsult.se iCalcreator 2.41.92//
CALSCALE:GREGORIAN
METHOD:PUBLISH
UID:36303166-6635-4436-b663-386432316363
X-WR-TIMEZONE:Europe/Berlin
X-LIC-LOCATION:Europe/Berlin
BEGIN:VEVENT
UID:589433-kulturportal@ok.edith-webco.de
DTSTAMP:20260425T114306Z
DESCRIPTION:Kurzbeschreibung:\n Märchenstunde mit Katrin Bamberg im Rahmen 
 der Ausstellung 'Drecksarbei - Der Mikrokosmos unter unseren Füßen' (ab 4 
 Jahren)\n Ort:\n Das Kulturhaus.\n Am Läger 12\, 77694 Kehl\n Veranstalter
 :\n Kulturbüro Kehl\n Termin:\n Beginn: 12.05.2026\n Ende: 12.05.2026\n Ti
 ckets:\n Tickets kaufen\n https://ortenaukultur.reservix.de/p/reservix/eve
 nt/2519817\n Einheitspreis:\n 4\,30 €\n *Preise inkl. MwSt.\n \n Link:\n Z
 ur Detailseite
DTSTART;TZID=Europe/Berlin:20260512T000000
DTEND;TZID=Europe/Berlin:20260512T030000
LOCATION:Das Kulturhaus.\, Am Läger 12\, 77694 Kehl
SUMMARY:Willkommen in der Welt unter unseren Füßen (1)\, Das Kulturhaus.
X-ALT-DESC;FMTTYPE=text/html:<strong>Kurzbeschreibung:</strong><br/>Märchen
 stunde mit Katrin Bamberg im Rahmen der Ausstellung 'Drecksarbei - Der Mik
 rokosmos unter unseren Füßen'  (ab 4 Jahren)<br /><strong>Ort:</strong><br
 />Das Kulturhaus.<br/>Am Läger 12\, 77694 Kehl<br /><strong>Veranstalter:<
 /strong><br/>Kulturbüro Kehl<br /><strong>Termin:</strong><br/>Beginn: 12.
 05.2026<br/>Ende: 12.05.2026<br /><strong>Tickets: </strong><br/><a rel='a
 sdf' href='https://ok.edith-webco.de/de/literatur/detail/tickets/id/589433
 -willkommen-in-der-welt-unter-unseren-fuessen-1/?follow=https%253A%252F%25
 2Fortenaukultur.reservix.de%252Fp%252Freservix%252Fevent%252F2519817' targ
 et='_blank' title='' id='ticketlink'>Tickets kaufen</a><br/>https://ortena
 ukultur.reservix.de/p/reservix/event/2519817<br/><b>Einheitspreis: </b><br
  />4\,30 &euro\;<br />*Preise inkl. MwSt.<br /><br /><strong>Link:</strong
 ><br/><a href='https://ok.edith-webco.de/de/veranstaltungen/detail/veranst
 altung/id/589433-willkommen-in-der-welt-unter-unseren-fuessen-1/?vt=1'>Zur
  Detailseite</a>
END:VEVENT
END:VCALENDAR
