BEGIN:VCALENDAR
VERSION:2.0
PRODID:-//ok.edith-webco.de//NONSGML kigkonsult.se iCalcreator 2.41.92//
CALSCALE:GREGORIAN
METHOD:PUBLISH
UID:36666134-3237-4339-b439-336539336261
X-WR-TIMEZONE:Europe/Berlin
X-LIC-LOCATION:Europe/Berlin
BEGIN:VEVENT
UID:443999-kulturportal@ok.edith-webco.de
DTSTAMP:20260425T210351Z
DESCRIPTION:Kurzbeschreibung:\n Lassen Sie sich von den herrlichen Melodien
  und Liedern\, von dem abwechslungsreichen Programm unseres gemischten Cho
 rs verzaubern. Bürgerhaus.\n Ort:\n Bürgerhaus\n Im Dorf 20\, 77787 Nordra
 ch\n Veranstalter:\n Chor der Klänge e.V.\n Termin:\n Beginn: 14.11.2026\,
  19:30 Uhr\n Ende: 14.11.2026\n Link:\n Zur Detailseite
DTSTART;TZID=Europe/Berlin:20261114T193000
DTEND;TZID=Europe/Berlin:20261114T223000
LOCATION:Bürgerhaus\, Im Dorf 20\, 77787 Nordrach
SUMMARY:Jahreskonzert des 'Chor der Klänge'.\, Bürgerhaus
X-ALT-DESC;FMTTYPE=text/html:<strong>Kurzbeschreibung:</strong><br/>Lassen 
 Sie sich von den herrlichen Melodien und Liedern\, von dem abwechslungsrei
 chen Programm unseres gemischten Chors verzaubern. Bürgerhaus.<br /><stron
 g>Ort:</strong><br/>Bürgerhaus<br/>Im Dorf 20\, 77787  Nordrach<br /><stro
 ng>Veranstalter:</strong><br/>Chor der Klänge e.V. <br /><strong>Termin:</
 strong><br/>Beginn: 14.11.2026\, 19:30 Uhr<br/>Ende: 14.11.2026<br /><stro
 ng>Link:</strong><br/><a href='https://ok.edith-webco.de/de/veranstaltunge
 n/detail/veranstaltung/id/443999-jahreskonzert-des-chor-der-klaenge/?vt=1'
 >Zur Detailseite</a>
END:VEVENT
END:VCALENDAR
