BEGIN:VCALENDAR
VERSION:2.0
PRODID:-//ok.edith-webco.de//NONSGML kigkonsult.se iCalcreator 2.41.92//
CALSCALE:GREGORIAN
METHOD:PUBLISH
UID:34336161-6631-4862-b662-626266393265
X-WR-TIMEZONE:Europe/Berlin
X-LIC-LOCATION:Europe/Berlin
BEGIN:VEVENT
UID:464526-kulturportal@ok.edith-webco.de
DTSTAMP:20260425T021703Z
DESCRIPTION:Kurzbeschreibung:\n beim Pavillon. Eindrucksvoll schallen die J
 agdhorn-Klänge in die Ortsmitte.\n Ort:\n Pavillon/Katzenhalde\n Dorf \, 7
 7784 Oberharmersbach\n Veranstalter:\n Jagdhornbläsergruppe Harmersbachtal
 \n Termin:\n Beginn: 25.07.2026\, 19:00 Uhr\n Ende: 25.07.2026\n Link:\n Z
 ur Detailseite
DTSTART;TZID=Europe/Berlin:20260725T190000
DTEND;TZID=Europe/Berlin:20260725T220000
LOCATION:Pavillon/Katzenhalde\, Dorf \, 77784 Oberharmersbach
SUMMARY:Jagdhornklänge vom Katzenstein\, Pavillon/Katzenhalde
X-ALT-DESC;FMTTYPE=text/html:<strong>Kurzbeschreibung:</strong><br/>beim Pa
 villon. Eindrucksvoll schallen die Jagdhorn-Klänge in die Ortsmitte. <br /
 ><strong>Ort:</strong><br/>Pavillon/Katzenhalde<br/>Dorf \, 77784 Oberharm
 ersbach<br /><strong>Veranstalter:</strong><br/>Jagdhornbläsergruppe Harme
 rsbachtal <br /><strong>Termin:</strong><br/>Beginn: 25.07.2026\, 19:00 Uh
 r<br/>Ende: 25.07.2026<br /><strong>Link:</strong><br/><a href='https://ok
 .edith-webco.de/de/veranstaltungen/detail/veranstaltung/id/464526-jagdhorn
 klaenge-vom-katzenstein/?vt=1'>Zur Detailseite</a>
END:VEVENT
END:VCALENDAR
