BEGIN:VCALENDAR
VERSION:2.0
PRODID:-//ok.edith-webco.de//NONSGML kigkonsult.se iCalcreator 2.41.92//
CALSCALE:GREGORIAN
METHOD:PUBLISH
UID:61356536-6534-4465-a363-303937666664
X-WR-TIMEZONE:Europe/Berlin
X-LIC-LOCATION:Europe/Berlin
BEGIN:VEVENT
UID:512568-kulturportal@ok.edith-webco.de
DTSTAMP:20260425T204634Z
DESCRIPTION:Kurzbeschreibung:\n Volksliedersingen für JederMann/Frau. Gemei
 nsam werden altbekannten Lieder angestimmt mit Akkordeonbegleitung.\n Ort:
 \n Landgasthof Zuwälder Stüble\n Zuwald 23\, 77784 Oberharmersbach\n Veran
 stalter:\n Volkslieder Singkreis\n Termin:\n Beginn: 26.06.2026\, 17:00 Uh
 r\n Ende: 26.06.2026\n Tickets:\n Eintritt frei!\n Link:\n Zur Detailseite
DTSTART;TZID=Europe/Berlin:20260626T170000
DTEND;TZID=Europe/Berlin:20260626T200000
LOCATION:Landgasthof Zuwälder Stüble\, Zuwald 23\, 77784 Oberharmersbach
SUMMARY:Volksliedersingen im Gasthaus Zuwälder Stüble\, Landgasthof Zuwälde
 r Stüble
X-ALT-DESC;FMTTYPE=text/html:<strong>Kurzbeschreibung:</strong><br/>Volksli
 edersingen für JederMann/Frau. Gemeinsam werden altbekannten Lieder angest
 immt mit Akkordeonbegleitung.<br /><strong>Ort:</strong><br/>Landgasthof Z
 uwälder Stüble<br/>Zuwald 23\, 77784 Oberharmersbach<br /><strong>Veransta
 lter:</strong><br/>Volkslieder Singkreis<br /><strong>Termin:</strong><br/
 >Beginn: 26.06.2026\, 17:00 Uhr<br/>Ende: 26.06.2026<br /><strong>Tickets:
  </strong><br/>Eintritt frei!<br /><strong>Link:</strong><br/><a href='htt
 ps://ok.edith-webco.de/de/veranstaltungen/detail/veranstaltung/id/512568-v
 olksliedersingen-im-gasthaus-zuwaelder-stueble/?vt=1'>Zur Detailseite</a>
END:VEVENT
END:VCALENDAR
