BEGIN:VCALENDAR
VERSION:2.0
PRODID:-//ok.edith-webco.de//NONSGML kigkonsult.se iCalcreator 2.41.92//
CALSCALE:GREGORIAN
METHOD:PUBLISH
UID:34656436-3738-4662-a633-363333356130
X-WR-TIMEZONE:Europe/Berlin
X-LIC-LOCATION:Europe/Berlin
BEGIN:VEVENT
UID:526232-kulturportal@ok.edith-webco.de
DTSTAMP:20260425T172144Z
DESCRIPTION:Kurzbeschreibung:\n Herrliche Klänge und leckeres Essen samt wu
 ndervollem Ausblick über das Dorf. Hermehansenhof\, Im Dorf 33.\n Ort:\n H
 ermehansenhof\, Im Dorf 33\n Winkelwald 1\, 77787 Nordrach\n Veranstalter:
 \n Trachtenkapelle Nordrach\n Termin:\n Beginn: 07.08.2026\, 19:00 Uhr\n E
 nde: 07.08.2026\n Link:\n Zur Detailseite
DTSTART;TZID=Europe/Berlin:20260807T190000
DTEND;TZID=Europe/Berlin:20260807T220000
LOCATION:Hermehansenhof\, Im Dorf 33\, Winkelwald 1\, 77787 Nordrach
SUMMARY:Sommerabendkonzert der Trachtenkapelle Nordrach beim Hermehansenhof
 .\, Winkelwaldklinik Nordrach
X-ALT-DESC;FMTTYPE=text/html:<strong>Kurzbeschreibung:</strong><br/>Herrlic
 he Klänge und leckeres Essen samt wundervollem Ausblick über das Dorf. Her
 mehansenhof\, Im Dorf 33.<br /><strong>Ort:</strong><br/>Hermehansenhof\, 
 Im Dorf 33<br/>Winkelwald 1\, 77787 Nordrach<br /><strong>Veranstalter:</s
 trong><br/>Trachtenkapelle Nordrach<br /><strong>Termin:</strong><br/>Begi
 nn: 07.08.2026\, 19:00 Uhr<br/>Ende: 07.08.2026<br /><strong>Link:</strong
 ><br/><a href='https://ok.edith-webco.de/de/veranstaltungen/detail/veranst
 altung/id/526232-sommerabendkonzert-der-trachtenkapelle-nordrach-beim-herm
 ehansenhof/?vt=1'>Zur Detailseite</a>
END:VEVENT
END:VCALENDAR
