BEGIN:VCALENDAR
VERSION:2.0
PRODID:-//ok.edith-webco.de//NONSGML kigkonsult.se iCalcreator 2.41.92//
CALSCALE:GREGORIAN
METHOD:PUBLISH
UID:31363966-6133-4066-b836-313831333963
X-WR-TIMEZONE:Europe/Berlin
X-LIC-LOCATION:Europe/Berlin
BEGIN:VEVENT
UID:526233-kulturportal@ok.edith-webco.de
DTSTAMP:20260426T035542Z
DESCRIPTION:Kurzbeschreibung:\n Zu Kuchen und beschwingter Musik lädt die J
 ugend der Trachtenkapelle auf den Landfrauen Markt nach Nordrach ein.\n Or
 t:\n Kirchplatz Nordrach\n Im Dorf 29\, 77787 Nordrach\n Veranstalter:\n T
 rachtenkapelle Nordrach\n Termin:\n Beginn: 26.09.2026\n Ende: 26.09.2026
 \n Link:\n Zur Detailseite
DTSTART;TZID=Europe/Berlin:20260926T000000
DTEND;TZID=Europe/Berlin:20260926T030000
LOCATION:Kirchplatz Nordrach\, Im Dorf 29\, 77787 Nordrach
SUMMARY:Konzert der Jugend-Trachtenkapelle Nordrach beim Landfrauenmarkt\, 
 Kirchplatz Nordrach
X-ALT-DESC;FMTTYPE=text/html:<strong>Kurzbeschreibung:</strong><br/>Zu  Kuc
 hen und beschwingter Musik lädt die Jugend der  Trachtenkapelle auf den La
 ndfrauen Markt nach Nordrach ein. <br /><strong>Ort:</strong><br/>Kirchpla
 tz Nordrach<br/>Im Dorf 29\, 77787 Nordrach<br /><strong>Veranstalter:</st
 rong><br/>Trachtenkapelle Nordrach<br /><strong>Termin:</strong><br/>Begin
 n: 26.09.2026<br/>Ende: 26.09.2026<br /><strong>Link:</strong><br/><a href
 ='https://ok.edith-webco.de/de/veranstaltungen/detail/veranstaltung/id/526
 233-konzert-der-jugend-trachtenkapelle-nordrach-beim-landfrauenmarkt/?vt=1
 '>Zur Detailseite</a>
END:VEVENT
END:VCALENDAR
