BEGIN:VCALENDAR
VERSION:2.0
PRODID:-//ok.edith-webco.de//NONSGML kigkonsult.se iCalcreator 2.41.92//
CALSCALE:GREGORIAN
METHOD:PUBLISH
UID:39366564-6638-4463-b735-646566363361
X-WR-TIMEZONE:Europe/Berlin
X-LIC-LOCATION:Europe/Berlin
BEGIN:VEVENT
UID:528136-kulturportal@ok.edith-webco.de
DTSTAMP:20260425T152257Z
DESCRIPTION:Kurzbeschreibung:\n Zipflo Reinhardt zählt zu den besten Jazz-V
 iolinisten unserer Zeit. Er entstammt der für ihre hohe Musikalität berühm
 ten Reinhardt-Dynastie.\n Ort:\n Bürgerhaus in Hildboltsweier ('Jergerheim
 ')\, Tulpenweg 16a\, 77656 Offenburg-Hildboltsweier\, Offenburg\n Veransta
 lter:\n Einwohnergemeinschaft-Offenburg-Hildboltsweier e.V.\n Termin:\n Be
 ginn: 13.06.2026\, 20:00 Uhr\n Ende: 13.06.2026\n Tickets:\n € 7\,50 (Frei
 e Platzwahl)\n Link:\n Zur Detailseite
DTSTART;TZID=Europe/Berlin:20260613T200000
DTEND;TZID=Europe/Berlin:20260613T230000
LOCATION:Bürgerhaus in Hildboltsweier ('Jergerheim')\, Tulpenweg 16a\, 7765
 6 Offenburg-Hildboltsweier\, Offenburg
SUMMARY:Zipflo Reinhardt & Band\, Bürgerhaus in Hildboltsweier ('Jergerheim
 ')\, Tulpenweg 16a\, 77656 Offenburg-Hildboltsweier
X-ALT-DESC;FMTTYPE=text/html:<strong>Kurzbeschreibung:</strong><br/>Zipflo 
 Reinhardt zählt zu den besten Jazz-Violinisten unserer Zeit. Er entstammt 
 der für ihre hohe Musikalität berühmten Reinhardt-Dynastie.<br /><strong>O
 rt:</strong><br/>Bürgerhaus in Hildboltsweier ('Jergerheim')\, Tulpenweg 1
 6a\, 77656 Offenburg-Hildboltsweier\, Offenburg<br /><strong>Veranstalter:
 </strong><br/>Einwohnergemeinschaft-Offenburg-Hildboltsweier e.V.<br /><st
 rong>Termin:</strong><br/>Beginn: 13.06.2026\, 20:00 Uhr<br/>Ende: 13.06.2
 026<br /><strong>Tickets: </strong><br/>€ 7\,50 (Freie Platzwahl)<br /><st
 rong>Link:</strong><br/><a href='https://ok.edith-webco.de/de/veranstaltun
 gen/detail/veranstaltung/id/528136-zipflo-reinhardt-band/?vt=1'>Zur Detail
 seite</a>
END:VEVENT
END:VCALENDAR
