BEGIN:VCALENDAR
VERSION:2.0
PRODID:-//ok.edith-webco.de//NONSGML kigkonsult.se iCalcreator 2.41.92//
CALSCALE:GREGORIAN
METHOD:PUBLISH
UID:63646364-3366-4964-b239-613965343661
X-WR-TIMEZONE:Europe/Berlin
X-LIC-LOCATION:Europe/Berlin
BEGIN:VEVENT
UID:573162-kulturportal@ok.edith-webco.de
DTSTAMP:20260426T012956Z
DESCRIPTION:Kurzbeschreibung:\n Bodo meets Cello - Gitarre\, Gesang\, Cello
  Genießen mit allen Sinnen am lauschigsten Plätzchen in der Lahrer Marktst
 raße.\n Ort:\n Schäfer´s Eck\, Am Rosenbrunnen\, Kirchstraße 1\, 77933 Lah
 r\n Ecke Marktstraße/Kirchstraße\, 77933 Lahr\n Veranstalter:\n Stadtmarke
 ting Lahr\n Termin:\n Beginn: 24.07.2026\, 17:00 Uhr\n Ende: 24.07.2026\n 
 Tickets:\n kostenfreie Veranstaltung\n \n Link:\n Zur Detailseite
DTSTART;TZID=Europe/Berlin:20260724T170000
DTEND;TZID=Europe/Berlin:20260724T200000
LOCATION:Schäfer´s Eck\, Am Rosenbrunnen\, Kirchstraße 1\, 77933 Lahr \, Ec
 ke Marktstraße/Kirchstraße\, 77933 Lahr
SUMMARY:Musik & Kulinarik am Rosenbrunnen - Genuss im Sommer \, Rosenbrunne
 n
X-ALT-DESC;FMTTYPE=text/html:<strong>Kurzbeschreibung:</strong><br/>Bodo me
 ets Cello - Gitarre\, Gesang\, Cello\n\nGenießen mit allen Sinnen am lausc
 higsten Plätzchen in der Lahrer Marktstraße. <br /><strong>Ort:</strong><b
 r/>Schäfer´s Eck\, Am Rosenbrunnen\, Kirchstraße 1\, 77933 Lahr <br/>Ecke 
 Marktstraße/Kirchstraße\, 77933 Lahr<br /><strong>Veranstalter:</strong><b
 r/>Stadtmarketing Lahr <br /><strong>Termin:</strong><br/>Beginn: 24.07.20
 26\, 17:00 Uhr<br/>Ende: 24.07.2026<br /><strong>Tickets: </strong><br/>ko
 stenfreie Veranstaltung<br />\n<br /><strong>Link:</strong><br/><a href='h
 ttps://ok.edith-webco.de/de/veranstaltungen/detail/veranstaltung/id/573162
 -musik-kulinarik-am-rosenbrunnen-genuss-im-sommer/?vt=1'>Zur Detailseite</
 a>
END:VEVENT
END:VCALENDAR
