BEGIN:VCALENDAR
VERSION:2.0
PRODID:-//ok.edith-webco.de//NONSGML kigkonsult.se iCalcreator 2.41.92//
CALSCALE:GREGORIAN
METHOD:PUBLISH
UID:31313565-3636-4231-a635-306561346364
X-WR-TIMEZONE:Europe/Berlin
X-LIC-LOCATION:Europe/Berlin
BEGIN:VEVENT
UID:573166-kulturportal@ok.edith-webco.de
DTSTAMP:20260425T143327Z
DESCRIPTION:Kurzbeschreibung:\n Tanja Blackwood - Gitarre\, Cajón\, Gesang 
 Genießen mit allen Sinnen am lauschigsten Plätzchen in der Lahrer Marktstr
 aße.\n Ort:\n Schäfer´s Eck\, Am Rosenbrunnen\, Kirchstraße 1\, 77933 Lahr
 \n Ecke Marktstraße/Kirchstraße\, 77933 Lahr\n Veranstalter:\n Stadtmarket
 ing Lahr\n Termin:\n Beginn: 14.08.2026\, 17:00 Uhr\n Ende: 14.08.2026\n T
 ickets:\n kostenfreie Veranstaltung\n \n Link:\n Zur Detailseite
DTSTART;TZID=Europe/Berlin:20260814T170000
DTEND;TZID=Europe/Berlin:20260814T200000
LOCATION:Schäfer´s Eck\, Am Rosenbrunnen\, Kirchstraße 1\, 77933 Lahr \, Ec
 ke Marktstraße/Kirchstraße\, 77933 Lahr
SUMMARY:Musik & Kulinarik am Rosenbrunnen - Genuss im Sommer  \, Rosenbrunn
 en
X-ALT-DESC;FMTTYPE=text/html:<strong>Kurzbeschreibung:</strong><br/>Tanja B
 lackwood - Gitarre\, Cajón\,  Gesang\n\nGenießen mit allen Sinnen am lausc
 higsten Plätzchen in der Lahrer Marktstraße. \n<br /><strong>Ort:</strong>
 <br/>Schäfer´s Eck\, Am Rosenbrunnen\, Kirchstraße 1\, 77933 Lahr <br/>Eck
 e Marktstraße/Kirchstraße\, 77933 Lahr<br /><strong>Veranstalter:</strong>
 <br/>Stadtmarketing Lahr <br /><strong>Termin:</strong><br/>Beginn: 14.08.
 2026\, 17:00 Uhr<br/>Ende: 14.08.2026<br /><strong>Tickets: </strong><br/>
 kostenfreie Veranstaltung<br />\n<br /><strong>Link:</strong><br/><a href=
 'https://ok.edith-webco.de/de/veranstaltungen/detail/veranstaltung/id/5731
 66-musik-kulinarik-am-rosenbrunnen-genuss-im-sommer/?vt=1'>Zur Detailseite
 </a>
END:VEVENT
END:VCALENDAR
