BEGIN:VCALENDAR
VERSION:2.0
PRODID:-//ok.edith-webco.de//NONSGML kigkonsult.se iCalcreator 2.41.92//
CALSCALE:GREGORIAN
METHOD:PUBLISH
UID:38636534-6637-4738-a138-656435306139
X-WR-TIMEZONE:Europe/Berlin
X-LIC-LOCATION:Europe/Berlin
BEGIN:VEVENT
UID:579380-kulturportal@ok.edith-webco.de
DTSTAMP:20260424T192116Z
DESCRIPTION:Kurzbeschreibung:\n eine lange Tradition in Haslach ist das Hir
 tensingen beim Stall im 'Goldenen Winkel' von Haslach.\n Ort:\n 'Goldener 
 Winkel' in der Bachgasse\n Goldener Winkel\, 77716 Haslach\n Veranstalter:
 \n Haslacher Hirtensänger\n Termin:\n Beginn: 29.12.2026\, 19:00 Uhr\n End
 e: 29.12.2026\n Link:\n Zur Detailseite
DTSTART;TZID=Europe/Berlin:20261229T190000
DTEND;TZID=Europe/Berlin:20261229T220000
LOCATION:'Goldener Winkel' in der Bachgasse\, Goldener Winkel\, 77716 Hasla
 ch
SUMMARY:Traditionelles Hirtensingen\, Goldener Winkel
X-ALT-DESC;FMTTYPE=text/html:<strong>Kurzbeschreibung:</strong><br/>eine la
 nge Tradition in Haslach ist das Hirtensingen beim Stall im 'Goldenen Wink
 el' von Haslach. <br /><strong>Ort:</strong><br/>'Goldener Winkel' in der 
 Bachgasse<br/>Goldener Winkel\, 77716 Haslach<br /><strong>Veranstalter:</
 strong><br/>Haslacher Hirtensänger<br /><strong>Termin:</strong><br/>Begin
 n: 29.12.2026\, 19:00 Uhr<br/>Ende: 29.12.2026<br /><strong>Link:</strong>
 <br/><a href='https://ok.edith-webco.de/de/veranstaltungen/detail/veransta
 ltung/id/579380-traditionelles-hirtensingen/?vt=1'>Zur Detailseite</a>
END:VEVENT
END:VCALENDAR
