BEGIN:VCALENDAR
VERSION:2.0
PRODID:-//ok.edith-webco.de//NONSGML kigkonsult.se iCalcreator 2.41.92//
CALSCALE:GREGORIAN
METHOD:PUBLISH
UID:30616165-6137-4137-b564-323165333332
X-WR-TIMEZONE:Europe/Berlin
X-LIC-LOCATION:Europe/Berlin
BEGIN:VEVENT
UID:580810-kulturportal@ok.edith-webco.de
DTSTAMP:20260425T232205Z
DESCRIPTION:Kurzbeschreibung:\n Die Stadtkapelle Ettenheim und das Jugendor
 chester laden zum beliebten Jahreskonzert ein.\n Ort:\n Stadthalle Ettenhe
 im\n Straßburger Straße 1\, 77955 Ettenheim\n Veranstalter:\n Stadtkapelle
  Ettenheim\n Termin:\n Beginn: 19.12.2026\, 20:00 Uhr\n Ende: 19.12.2026\n
  Tickets:\n Einlass ab 19 Uhr\n Link:\n Zur Detailseite
DTSTART;TZID=Europe/Berlin:20261219T200000
DTEND;TZID=Europe/Berlin:20261219T230000
LOCATION:Stadthalle Ettenheim\, Straßburger Straße 1\, 77955 Ettenheim
SUMMARY:Jahreskonzert der Stadtkapelle\, Stadthalle Ettenheim
X-ALT-DESC;FMTTYPE=text/html:<strong>Kurzbeschreibung:</strong><br/>Die Sta
 dtkapelle Ettenheim und das Jugendorchester laden zum beliebten Jahreskonz
 ert ein.<br /><strong>Ort:</strong><br/>Stadthalle Ettenheim<br/>Straßburg
 er Straße 1\, 77955 Ettenheim<br /><strong>Veranstalter:</strong><br/>Stad
 tkapelle Ettenheim<br /><strong>Termin:</strong><br/>Beginn: 19.12.2026\, 
 20:00 Uhr<br/>Ende: 19.12.2026<br /><strong>Tickets: </strong><br/>Einlass
  ab 19 Uhr<br /><strong>Link:</strong><br/><a href='https://ok.edith-webco
 .de/de/veranstaltungen/detail/veranstaltung/id/580810-jahreskonzert-der-st
 adtkapelle/?vt=1'>Zur Detailseite</a>
END:VEVENT
END:VCALENDAR
