BEGIN:VCALENDAR
VERSION:2.0
PRODID:-//ok.edith-webco.de//NONSGML kigkonsult.se iCalcreator 2.41.92//
CALSCALE:GREGORIAN
METHOD:PUBLISH
UID:66306430-6232-4466-b631-626532616663
X-WR-TIMEZONE:Europe/Berlin
X-LIC-LOCATION:Europe/Berlin
BEGIN:VEVENT
UID:580812-kulturportal@ok.edith-webco.de
DTSTAMP:20260426T004535Z
DESCRIPTION:Kurzbeschreibung:\n Festliche Weihnachtslieder für Jung und Alt
  gespielt von der Stadtkapelle Ettenheim\n Ort:\n Stadthalle Ettenheim\n R
 ohanstr. 18\, 77955 Ettenheim\n Veranstalter:\n Stadtkapelle Ettenheim\n T
 ermin:\n Beginn: 24.12.2026\, 14:00 Uhr\n Ende: 24.12.2026\n Link:\n Zur D
 etailseite
DTSTART;TZID=Europe/Berlin:20261224T140000
DTEND;TZID=Europe/Berlin:20261224T170000
LOCATION:Stadthalle Ettenheim\, Rohanstr. 18\, 77955 Ettenheim
SUMMARY:Weihnachtliches Vorspiel der Stadtkapelle Ettenheim\, Hof der Winte
 rschule (St. Josefshaus)
X-ALT-DESC;FMTTYPE=text/html:<strong>Kurzbeschreibung:</strong><br/>Festlic
 he Weihnachtslieder für Jung und Alt gespielt von der Stadtkapelle Ettenhe
 im <br /><strong>Ort:</strong><br/>Stadthalle Ettenheim<br/>Rohanstr. 18\,
  77955 Ettenheim<br /><strong>Veranstalter:</strong><br/>Stadtkapelle Ette
 nheim<br /><strong>Termin:</strong><br/>Beginn: 24.12.2026\, 14:00 Uhr<br/
 >Ende: 24.12.2026<br /><strong>Link:</strong><br/><a href='https://ok.edit
 h-webco.de/de/veranstaltungen/detail/veranstaltung/id/580812-weihnachtlich
 es-vorspiel-der-stadtkapelle-ettenheim/?vt=1'>Zur Detailseite</a>
END:VEVENT
END:VCALENDAR
