BEGIN:VCALENDAR
VERSION:2.0
PRODID:-//ok.edith-webco.de//NONSGML kigkonsult.se iCalcreator 2.41.92//
CALSCALE:GREGORIAN
METHOD:PUBLISH
UID:64313634-3639-4431-b139-383432313264
X-WR-TIMEZONE:Europe/Berlin
X-LIC-LOCATION:Europe/Berlin
BEGIN:VEVENT
UID:582786-kulturportal@ok.edith-webco.de
DTSTAMP:20260425T142247Z
DESCRIPTION:Kurzbeschreibung:\n Traditionelle und moderne Musikstücke versp
 rechen einen ganz besonderen Abend. Veranstaltungsraum Haus 2\, Etage 4. B
 ei gutem Wetter auf der Terrasse.\n Ort:\n Winkelwaldklinik Nordrach\n Win
 kelwald 1\, 77787 Nordrach\n Veranstalter:\n Trachtenkapelle Nordrach e.V.
 \n Termin:\n Beginn: 29.07.2026\, 19:00 Uhr\n Ende: 29.07.2026\n Link:\n Z
 ur Detailseite
DTSTART;TZID=Europe/Berlin:20260729T190000
DTEND;TZID=Europe/Berlin:20260729T220000
LOCATION:Winkelwaldklinik Nordrach\, Winkelwald 1\, 77787 Nordrach
SUMMARY:Kurkonzert der Trachtenkapelle in der Winkelwaldklinik\, Winkelwald
 klinik Nordrach
X-ALT-DESC;FMTTYPE=text/html:<strong>Kurzbeschreibung:</strong><br/>Traditi
 onelle und moderne Musikstücke versprechen einen ganz besonderen Abend. Ve
 ranstaltungsraum Haus 2\, Etage 4. Bei gutem Wetter auf der Terrasse.<br /
 ><strong>Ort:</strong><br/>Winkelwaldklinik Nordrach<br/>Winkelwald 1\, 77
 787 Nordrach<br /><strong>Veranstalter:</strong><br/>Trachtenkapelle Nordr
 ach e.V.<br /><strong>Termin:</strong><br/>Beginn: 29.07.2026\, 19:00 Uhr<
 br/>Ende: 29.07.2026<br /><strong>Link:</strong><br/><a href='https://ok.e
 dith-webco.de/de/veranstaltungen/detail/veranstaltung/id/582786-kurkonzert
 -der-trachtenkapelle-in-der-winkelwaldklinik/?vt=1'>Zur Detailseite</a>
END:VEVENT
END:VCALENDAR
