BEGIN:VCALENDAR
VERSION:2.0
PRODID:-//ok.edith-webco.de//NONSGML kigkonsult.se iCalcreator 2.41.92//
CALSCALE:GREGORIAN
METHOD:PUBLISH
UID:36366463-3431-4936-b438-346162623830
X-WR-TIMEZONE:Europe/Berlin
X-LIC-LOCATION:Europe/Berlin
BEGIN:VEVENT
UID:583128-kulturportal@ok.edith-webco.de
DTSTAMP:20260426T021810Z
DESCRIPTION:Kurzbeschreibung:\n Die Stadtkapelle Oberkirch blickt auf eine 
 über 200-jährige Geschichte zurück und zählt zu den traditionsreichsten Ku
 lturträgern der Stadt.\n Ort:\n Erwin-Braun-Halle\n Querstraße 10\, 77704 
 Oberkirch\n Veranstalter:\n Stadtkapelle Oberkirch\n Termin:\n Beginn: 21.
 11.2026\, 20:00 Uhr\n Ende: 21.11.2026\n Tickets:\n Tickets unter www.stad
 tkapelle-oberkirch.de/galakonzert\n Link:\n Zur Detailseite
DTSTART;TZID=Europe/Berlin:20261121T200000
DTEND;TZID=Europe/Berlin:20261121T230000
LOCATION:Erwin-Braun-Halle\, Querstraße 10\, 77704 Oberkirch
SUMMARY:Galakonzert der Stadtkapelle Oberkirch\, Erwin-Braun-Halle
X-ALT-DESC;FMTTYPE=text/html:<strong>Kurzbeschreibung:</strong><br/>Die Sta
 dtkapelle Oberkirch blickt auf eine über 200-jährige Geschichte zurück und
  zählt zu den traditionsreichsten Kulturträgern der Stadt.<br /><strong>Or
 t:</strong><br/>Erwin-Braun-Halle<br/>Querstraße 10\, 77704 Oberkirch<br /
 ><strong>Veranstalter:</strong><br/>Stadtkapelle Oberkirch<br /><strong>Te
 rmin:</strong><br/>Beginn: 21.11.2026\, 20:00 Uhr<br/>Ende: 21.11.2026<br 
 /><strong>Tickets: </strong><br/>Tickets unter www.stadtkapelle-oberkirch.
 de/galakonzert<br /><strong>Link:</strong><br/><a href='https://ok.edith-w
 ebco.de/de/veranstaltungen/detail/veranstaltung/id/583128-galakonzert-der-
 stadtkapelle-oberkirch/?vt=1'>Zur Detailseite</a>
END:VEVENT
END:VCALENDAR
