BEGIN:VCALENDAR
VERSION:2.0
PRODID:-//ok.edith-webco.de//NONSGML kigkonsult.se iCalcreator 2.41.92//
CALSCALE:GREGORIAN
METHOD:PUBLISH
UID:31396533-6365-4436-b761-303330626461
X-WR-TIMEZONE:Europe/Berlin
X-LIC-LOCATION:Europe/Berlin
BEGIN:VEVENT
UID:583572-kulturportal@ok.edith-webco.de
DTSTAMP:20260425T005817Z
DESCRIPTION:Kurzbeschreibung:\n Am Mittwoch\, den 19. August spielt das Sen
 iorenblasorchester des Blasmusikverband Kinzigtal.\n Ort:\n Klostergarten 
 oder Haus der Musik\n Klosterstraße 1\, 77716 Haslach\n Veranstalter:\n St
 adt Haslach - Kultur und Marketing\n Termin:\n Beginn: 19.08.2026\, 19:30 
 Uhr\n Ende: 19.08.2026\n Link:\n Zur Detailseite
DTSTART;TZID=Europe/Berlin:20260819T193000
DTEND;TZID=Europe/Berlin:20260819T223000
LOCATION:Klostergarten oder Haus der Musik\, Klosterstraße 1\, 77716 Haslac
 h
SUMMARY:Ein Promenadenkonzert mit dem Seniorenblasorchester \, Klostergarte
 n
X-ALT-DESC;FMTTYPE=text/html:<strong>Kurzbeschreibung:</strong><br/>Am Mitt
 woch\, den 19.  August spielt das Seniorenblasorchester des Blasmusikverba
 nd Kinzigtal. <br /><strong>Ort:</strong><br/>Klostergarten oder Haus der 
 Musik<br/>Klosterstraße 1\, 77716 Haslach<br /><strong>Veranstalter:</stro
 ng><br/>Stadt Haslach - Kultur und Marketing<br /><strong>Termin:</strong>
 <br/>Beginn: 19.08.2026\, 19:30 Uhr<br/>Ende: 19.08.2026<br /><strong>Link
 :</strong><br/><a href='https://ok.edith-webco.de/de/veranstaltungen/detai
 l/veranstaltung/id/583572-ein-promenadenkonzert-mit-dem-seniorenblasorches
 ter/?vt=1'>Zur Detailseite</a>
END:VEVENT
END:VCALENDAR
