BEGIN:VCALENDAR
VERSION:2.0
PRODID:-//ok.edith-webco.de//NONSGML kigkonsult.se iCalcreator 2.41.92//
CALSCALE:GREGORIAN
METHOD:PUBLISH
UID:66623862-6339-4664-b466-323861373964
X-WR-TIMEZONE:Europe/Berlin
X-LIC-LOCATION:Europe/Berlin
BEGIN:VEVENT
UID:584399-kulturportal@ok.edith-webco.de
DTSTAMP:20260425T142911Z
DESCRIPTION:Kurzbeschreibung:\n Best of Klauskonzert - Der Musikverein Altd
 orf lädt herzliche zum Jubiläumskonzert ein!\n Ort:\n Münchgrundhalle\n Jo
 seph-Greber-Str. 5\, 77955 Ettenheim-Altdorf\n Veranstalter:\n Musikverein
  Altdorf e. V.\n Termin:\n Beginn: 05.12.2026\, 20:00 Uhr\n Ende: 05.12.20
 26\n Link:\n Zur Detailseite
DTSTART;TZID=Europe/Berlin:20261205T200000
DTEND;TZID=Europe/Berlin:20261205T230000
LOCATION:Münchgrundhalle\, Joseph-Greber-Str. 5\, 77955 Ettenheim-Altdorf
SUMMARY:Jahreskonzert Musikverein Altdorf\, Münchgrundhalle
X-ALT-DESC;FMTTYPE=text/html:<strong>Kurzbeschreibung:</strong><br/>Best of
  Klauskonzert - Der Musikverein Altdorf lädt herzliche zum Jubiläumskonzer
 t ein!<br /><strong>Ort:</strong><br/>Münchgrundhalle<br/>Joseph-Greber-St
 r. 5\, 77955 Ettenheim-Altdorf<br /><strong>Veranstalter:</strong><br/>Mus
 ikverein Altdorf e. V.<br /><strong>Termin:</strong><br/>Beginn: 05.12.202
 6\, 20:00 Uhr<br/>Ende: 05.12.2026<br /><strong>Link:</strong><br/><a href
 ='https://ok.edith-webco.de/de/veranstaltungen/detail/veranstaltung/id/584
 399-jahreskonzert-musikverein-altdorf/?vt=1'>Zur Detailseite</a>
END:VEVENT
END:VCALENDAR
